BEGIN:VCALENDAR
VERSION:2.0
PRODID:-//Triangle Lebanese-American Center (TLAC) - ECPv6.15.20//NONSGML v1.0//EN
CALSCALE:GREGORIAN
METHOD:PUBLISH
X-ORIGINAL-URL:https://tlacnc.org
X-WR-CALDESC:Events for Triangle Lebanese-American Center (TLAC)
REFRESH-INTERVAL;VALUE=DURATION:PT1H
X-Robots-Tag:noindex
X-PUBLISHED-TTL:PT1H
BEGIN:VTIMEZONE
TZID:America/New_York
BEGIN:DAYLIGHT
TZOFFSETFROM:-0500
TZOFFSETTO:-0400
TZNAME:EDT
DTSTART:20240310T070000
END:DAYLIGHT
BEGIN:STANDARD
TZOFFSETFROM:-0400
TZOFFSETTO:-0500
TZNAME:EST
DTSTART:20241103T060000
END:STANDARD
BEGIN:DAYLIGHT
TZOFFSETFROM:-0500
TZOFFSETTO:-0400
TZNAME:EDT
DTSTART:20250309T070000
END:DAYLIGHT
BEGIN:STANDARD
TZOFFSETFROM:-0400
TZOFFSETTO:-0500
TZNAME:EST
DTSTART:20251102T060000
END:STANDARD
BEGIN:DAYLIGHT
TZOFFSETFROM:-0500
TZOFFSETTO:-0400
TZNAME:EDT
DTSTART:20260308T070000
END:DAYLIGHT
BEGIN:STANDARD
TZOFFSETFROM:-0400
TZOFFSETTO:-0500
TZNAME:EST
DTSTART:20261101T060000
END:STANDARD
END:VTIMEZONE
BEGIN:VEVENT
DTSTART;TZID=America/New_York:20251102T130000
DTEND;TZID=America/New_York:20251102T160000
DTSTAMP:20260419T125827
CREATED:20251020T162819Z
LAST-MODIFIED:20251020T163145Z
UID:13899-1762088400-1762099200@tlacnc.org
SUMMARY:Volunteer Thank You Brunch
DESCRIPTION:Please enable JavaScript in your browser to complete this form.Please enable JavaScript in your browser to complete this form.Name *FirstLastPhone *Email *EmailConfirm EmailA payment receipt will be sent to this emailAre you a TLAC member? *YesNoThis is a members only event. If you are not a member of the TLAC and wish to attend\, please sign up to be a member at https://tlacnc.org/membership/Number of Attendees ($50 per attendee; this is a 21+ only event) *0123456Please select the number of attendees in your partyAny Comments / Requests?Total Amount *$0.00Credit Card Information *CardName on CardEmailSubmit
URL:https://tlacnc.org/event/volunteer-thank-you-brunch/
LOCATION:Baytna\, 241 Horizon Dr\, Raleigh\, NC\, 27615\, United States
ATTACH;FMTTYPE=image/jpeg:https://tlacnc.org/wp-content/uploads/2025/10/59939d50-1e22-4265-bc90-da7185dd582d.jpeg
ORGANIZER;CN="Daniela Nasrallah":MAILTO:danielaalzoor@gmail.com
END:VEVENT
BEGIN:VEVENT
DTSTART;TZID=America/New_York:20251108T080000
DTEND;TZID=America/New_York:20251108T170000
DTSTAMP:20260419T125827
CREATED:20250814T235701Z
LAST-MODIFIED:20250814T235745Z
UID:13814-1762588800-1762621200@tlacnc.org
SUMMARY:Preserving Lebanese Heritage Workshop
DESCRIPTION:Please enable JavaScript in your browser to complete this form.Please enable JavaScript in your browser to complete this form.Name *FirstLastPhone *Email *EmailConfirm EmailA payment receipt will be sent to this emailAre you a TLAC member? *YesNoThis is a members only event. If you are not a member of the TLAC and wish to attend\, please sign up to be a member at https://tlacnc.org/membership/Number of Attendees ($50 per attendee; this is a 21+ only event) *0123456Please select the number of attendees in your partyAny Comments / Requests?Total Amount *$0.00Credit Card Information *CardName on CardPhoneSubmit
URL:https://tlacnc.org/event/preserving-lebanese-heritage-workshop/
LOCATION:NC State University – Withers Hall\, 101 Lampe Dr\, Raleigh\, NC\, 27607
ORGANIZER;CN="Moise A. Khayrallah Center for Lebanese Diaspora Studies":MAILTO:cmuglia@gmail.com
END:VEVENT
BEGIN:VEVENT
DTSTART;TZID=America/New_York:20251123T150000
DTEND;TZID=America/New_York:20251123T180000
DTSTAMP:20260419T125827
CREATED:20250122T182944Z
LAST-MODIFIED:20251117T182203Z
UID:12586-1763910000-1763920800@tlacnc.org
SUMMARY:Lebanese Independence Day Celebration
DESCRIPTION:Please enable JavaScript in your browser to complete this form.Please enable JavaScript in your browser to complete this form.Name *FirstLastPhone *Email *EmailConfirm EmailA payment receipt will be sent to this emailAre you a TLAC member? *YesNoThis is a members only event. If you are not a member of the TLAC and wish to attend\, please sign up to be a member at https://tlacnc.org/membership/Number of Attendees ($50 per attendee; this is a 21+ only event) *0123456Please select the number of attendees in your partyAny Comments / Requests?Total Amount *$0.00Credit Card Information *CardName on CardNameSubmit
URL:https://tlacnc.org/event/lebanese-independence-day-gathering/
LOCATION:Baytna\, 241 Horizon Dr\, Raleigh\, NC\, 27615\, United States
ATTACH;FMTTYPE=image/jpeg:https://tlacnc.org/wp-content/uploads/2025/11/WhatsApp-Image-2025-11-05-at-9.22.22-AM.jpeg
ORGANIZER;CN="TLAC":MAILTO:events@tlacnc.org
END:VEVENT
END:VCALENDAR