BEGIN:VCALENDAR
VERSION:2.0
PRODID:-//Triangle Lebanese-American Center (TLAC) - ECPv6.15.20//NONSGML v1.0//EN
CALSCALE:GREGORIAN
METHOD:PUBLISH
X-ORIGINAL-URL:https://tlacnc.org
X-WR-CALDESC:Events for Triangle Lebanese-American Center (TLAC)
REFRESH-INTERVAL;VALUE=DURATION:PT1H
X-Robots-Tag:noindex
X-PUBLISHED-TTL:PT1H
BEGIN:VTIMEZONE
TZID:America/New_York
BEGIN:DAYLIGHT
TZOFFSETFROM:-0500
TZOFFSETTO:-0400
TZNAME:EDT
DTSTART:20240310T070000
END:DAYLIGHT
BEGIN:STANDARD
TZOFFSETFROM:-0400
TZOFFSETTO:-0500
TZNAME:EST
DTSTART:20241103T060000
END:STANDARD
BEGIN:DAYLIGHT
TZOFFSETFROM:-0500
TZOFFSETTO:-0400
TZNAME:EDT
DTSTART:20250309T070000
END:DAYLIGHT
BEGIN:STANDARD
TZOFFSETFROM:-0400
TZOFFSETTO:-0500
TZNAME:EST
DTSTART:20251102T060000
END:STANDARD
BEGIN:DAYLIGHT
TZOFFSETFROM:-0500
TZOFFSETTO:-0400
TZNAME:EDT
DTSTART:20260308T070000
END:DAYLIGHT
BEGIN:STANDARD
TZOFFSETFROM:-0400
TZOFFSETTO:-0500
TZNAME:EST
DTSTART:20261101T060000
END:STANDARD
END:VTIMEZONE
BEGIN:VEVENT
DTSTART;TZID=America/New_York:20251003T180000
DTEND;TZID=America/New_York:20251003T210000
DTSTAMP:20260419T141912
CREATED:20250814T233438Z
LAST-MODIFIED:20250923T170043Z
UID:13808-1759514400-1759525200@tlacnc.org
SUMMARY:Lebanese Film Screening - We Never Left
DESCRIPTION:Please enable JavaScript in your browser to complete this form.Please enable JavaScript in your browser to complete this form.Name *FirstLastPhone *Email *EmailConfirm EmailA payment receipt will be sent to this emailAre you a TLAC member? *YesNoThis is a members only event. If you are not a member of the TLAC and wish to attend\, please sign up to be a member at https://tlacnc.org/membership/Number of Attendees ($50 per attendee; this is a 21+ only event) *0123456Please select the number of attendees in your partyAny Comments / Requests?Total Amount *$0.00Credit Card Information *CardName on CardPhoneSubmit
URL:https://tlacnc.org/event/lebanese-film-screening-we-never-left/
LOCATION:NC State University – Witherspoon Cinema\, 2810 Cates Ave\, Raleigh\, NC\, 27607\, United States
ATTACH;FMTTYPE=image/jpeg:https://tlacnc.org/wp-content/uploads/2025/08/Screenshot-2025-09-23-at-12.06.49-PM.jpeg
ORGANIZER;CN="Moise A. Khayrallah Center for Lebanese Diaspora Studies":MAILTO:cmuglia@gmail.com
END:VEVENT
BEGIN:VEVENT
DTSTART;TZID=America/New_York:20251011T100000
DTEND;TZID=America/New_York:20251011T120000
DTSTAMP:20260419T141912
CREATED:20250814T231736Z
LAST-MODIFIED:20250923T170416Z
UID:13802-1760176800-1760184000@tlacnc.org
SUMMARY:2025 Walk for Lebanon
DESCRIPTION:Please enable JavaScript in your browser to complete this form.Please enable JavaScript in your browser to complete this form.Name *FirstLastPhone *Email *EmailConfirm EmailA payment receipt will be sent to this emailAre you a TLAC member? *YesNoThis is a members only event. If you are not a member of the TLAC and wish to attend\, please sign up to be a member at https://tlacnc.org/membership/Number of Attendees ($50 per attendee; this is a 21+ only event) *0123456Please select the number of attendees in your partyAny Comments / Requests?Total Amount *$0.00Credit Card Information *CardName on CardPhoneSubmit
URL:https://tlacnc.org/event/2025-walk-for-lebanon/
LOCATION:Shelley Lake
ATTACH;FMTTYPE=application/pdf:https://tlacnc.org/wp-content/uploads/2025/08/Walk-For-Lebanon.pdf
END:VEVENT
BEGIN:VEVENT
DTSTART;TZID=America/New_York:20251030T173000
DTEND;TZID=America/New_York:20251030T173000
DTSTAMP:20260419T141912
CREATED:20250122T182816Z
LAST-MODIFIED:20251020T163522Z
UID:12584-1761845400-1761845400@tlacnc.org
SUMMARY:TLAC Halloween Gathering
DESCRIPTION:Please enable JavaScript in your browser to complete this form.Please enable JavaScript in your browser to complete this form.Name *FirstLastPhone *Email *EmailConfirm EmailA payment receipt will be sent to this emailAre you a TLAC member? *YesNoThis is a members only event. If you are not a member of the TLAC and wish to attend\, please sign up to be a member at https://tlacnc.org/membership/Number of Attendees ($50 per attendee; this is a 21+ only event) *0123456Please select the number of attendees in your partyAny Comments / Requests?Total Amount *$0.00Credit Card Information *CardName on CardNameSubmit
URL:https://tlacnc.org/event/tlac-halloween-gathering/
LOCATION:Baytna\, 241 Horizon Dr\, Raleigh\, NC\, 27615\, United States
ATTACH;FMTTYPE=image/jpeg:https://tlacnc.org/wp-content/uploads/2025/01/6f21e1c9-aebc-4952-ba3b-430f517b1904.jpeg
ORGANIZER;CN="Daniela Nasrallah":MAILTO:danielaalzoor@gmail.com
END:VEVENT
END:VCALENDAR