BEGIN:VCALENDAR
VERSION:2.0
PRODID:-//Triangle Lebanese-American Center (TLAC) - ECPv6.15.20//NONSGML v1.0//EN
CALSCALE:GREGORIAN
METHOD:PUBLISH
X-WR-CALNAME:Triangle Lebanese-American Center (TLAC)
X-ORIGINAL-URL:https://tlacnc.org
X-WR-CALDESC:Events for Triangle Lebanese-American Center (TLAC)
REFRESH-INTERVAL;VALUE=DURATION:PT1H
X-Robots-Tag:noindex
X-PUBLISHED-TTL:PT1H
BEGIN:VTIMEZONE
TZID:America/New_York
BEGIN:DAYLIGHT
TZOFFSETFROM:-0500
TZOFFSETTO:-0400
TZNAME:EDT
DTSTART:20210314T070000
END:DAYLIGHT
BEGIN:STANDARD
TZOFFSETFROM:-0400
TZOFFSETTO:-0500
TZNAME:EST
DTSTART:20211107T060000
END:STANDARD
BEGIN:DAYLIGHT
TZOFFSETFROM:-0500
TZOFFSETTO:-0400
TZNAME:EDT
DTSTART:20220313T070000
END:DAYLIGHT
BEGIN:STANDARD
TZOFFSETFROM:-0400
TZOFFSETTO:-0500
TZNAME:EST
DTSTART:20221106T060000
END:STANDARD
BEGIN:DAYLIGHT
TZOFFSETFROM:-0500
TZOFFSETTO:-0400
TZNAME:EDT
DTSTART:20230312T070000
END:DAYLIGHT
BEGIN:STANDARD
TZOFFSETFROM:-0400
TZOFFSETTO:-0500
TZNAME:EST
DTSTART:20231105T060000
END:STANDARD
END:VTIMEZONE
BEGIN:VEVENT
DTSTART;TZID=America/New_York:20221218T130000
DTEND;TZID=America/New_York:20221218T150000
DTSTAMP:20260423T120838
CREATED:20221205T014701Z
LAST-MODIFIED:20221205T015339Z
UID:10903-1671368400-1671375600@tlacnc.org
SUMMARY:Christmas Party
DESCRIPTION:Please enable JavaScript in your browser to complete this form.Please enable JavaScript in your browser to complete this form.Name *FirstLastPhone *Email *EmailConfirm EmailA payment receipt will be sent to this emailAre you a TLAC member? *YesNoThis is a members only event. If you are not a member of the TLAC and wish to attend\, please sign up to be a member at https://tlacnc.org/membership/Number of Attendees ($50 per attendee; this is a 21+ only event) *0123456Please select the number of attendees in your partyAny Comments / Requests?Total Amount *$0.00Credit Card Information *CardName on CardCommentSubmit
URL:https://tlacnc.org/event/christmas-party/
LOCATION:Baytna\, 241 Horizon Dr\, Raleigh\, NC\, 27615\, United States
ORGANIZER;CN="TLAC":MAILTO:events@tlacnc.org
END:VEVENT
END:VCALENDAR