BEGIN:VCALENDAR
VERSION:2.0
PRODID:-//Triangle Lebanese-American Center (TLAC) - ECPv6.15.20//NONSGML v1.0//EN
CALSCALE:GREGORIAN
METHOD:PUBLISH
X-WR-CALNAME:Triangle Lebanese-American Center (TLAC)
X-ORIGINAL-URL:https://tlacnc.org
X-WR-CALDESC:Events for Triangle Lebanese-American Center (TLAC)
REFRESH-INTERVAL;VALUE=DURATION:PT1H
X-Robots-Tag:noindex
X-PUBLISHED-TTL:PT1H
BEGIN:VTIMEZONE
TZID:America/New_York
BEGIN:DAYLIGHT
TZOFFSETFROM:-0500
TZOFFSETTO:-0400
TZNAME:EDT
DTSTART:20140309T070000
END:DAYLIGHT
BEGIN:STANDARD
TZOFFSETFROM:-0400
TZOFFSETTO:-0500
TZNAME:EST
DTSTART:20141102T060000
END:STANDARD
BEGIN:DAYLIGHT
TZOFFSETFROM:-0500
TZOFFSETTO:-0400
TZNAME:EDT
DTSTART:20150308T070000
END:DAYLIGHT
BEGIN:STANDARD
TZOFFSETFROM:-0400
TZOFFSETTO:-0500
TZNAME:EST
DTSTART:20151101T060000
END:STANDARD
BEGIN:DAYLIGHT
TZOFFSETFROM:-0500
TZOFFSETTO:-0400
TZNAME:EDT
DTSTART:20160313T070000
END:DAYLIGHT
BEGIN:STANDARD
TZOFFSETFROM:-0400
TZOFFSETTO:-0500
TZNAME:EST
DTSTART:20161106T060000
END:STANDARD
END:VTIMEZONE
BEGIN:VEVENT
DTSTART;TZID=America/New_York:20150927T160000
DTEND;TZID=America/New_York:20150927T180000
DTSTAMP:20260420T024449
CREATED:20150927T160903Z
LAST-MODIFIED:20150927T161106Z
UID:562-1443369600-1443376800@tlacnc.org
SUMMARY:Arabic Classes and Activities
DESCRIPTION:Arabic classes for kids of all ages!\nThe first hour is for the bigger children (ages 10 to 15)\, while the second hour is for the younger ones (ages 5 to 9).\nWhen one group is taking an Arabic class\, the other group participates in a fun educational activity\, and vice versa.
URL:https://tlacnc.org/event/arabic-classes-and-activities/
LOCATION:Baytna\, 241 Horizon Dr\, Raleigh\, NC\, 27615\, United States
CATEGORIES:Arabic Class,Classes,Dabkeh
ORGANIZER;CN="TLAC":MAILTO:events@tlacnc.org
END:VEVENT
BEGIN:VEVENT
DTSTART;TZID=America/New_York:20150927T160000
DTEND;TZID=America/New_York:20150927T180000
DTSTAMP:20260420T024449
CREATED:20150927T155005Z
LAST-MODIFIED:20150927T161436Z
UID:558-1443369600-1443376800@tlacnc.org
SUMMARY:Arabic Classes and Dabkeh
DESCRIPTION:Arabic classes and Dabkeh practice for kids of all ages!\nThe first hour is for the bigger children (ages 10 to 15)\, while the second hour is for the younger ones (ages 5 to 9).\nWhen one group is taking the Arabic class\, the other group attends the Dabkeh practice\, and vice versa.
URL:https://tlacnc.org/event/arabic-classes-and-dabkeh/
LOCATION:Baytna\, 241 Horizon Dr\, Raleigh\, NC\, 27615\, United States
CATEGORIES:Arabic Class,Classes,Dabkeh
ORGANIZER;CN="TLAC":MAILTO:events@tlacnc.org
END:VEVENT
BEGIN:VEVENT
DTSTART;TZID=America/New_York:20150920T160000
DTEND;TZID=America/New_York:20150920T180000
DTSTAMP:20260420T024449
CREATED:20150927T154728Z
LAST-MODIFIED:20150927T161534Z
UID:557-1442764800-1442772000@tlacnc.org
SUMMARY:Arabic Classes and Dabkeh
DESCRIPTION:Arabic classes and Dabkeh practice for kids of all ages!\nThe first hour is for the bigger children (ages 10 to 15)\, while the second hour is for the younger ones (ages 5 to 9).\nWhen one group is taking the Arabic class\, the other group attends the Dabkeh practice\, and vice versa.
URL:https://tlacnc.org/event/arabic-and-dabkeh/
LOCATION:Baytna\, 241 Horizon Dr\, Raleigh\, NC\, 27615\, United States
CATEGORIES:Arabic Class,Classes,Dabkeh
ORGANIZER;CN="TLAC":MAILTO:events@tlacnc.org
END:VEVENT
BEGIN:VEVENT
DTSTART;TZID=America/New_York:20150913T160000
DTEND;TZID=America/New_York:20150913T180000
DTSTAMP:20260420T024449
CREATED:20150927T154458Z
LAST-MODIFIED:20150927T161612Z
UID:556-1442160000-1442167200@tlacnc.org
SUMMARY:Arabic Classes and Dabkeh
DESCRIPTION:Arabic classes and Dabkeh practice for kids of all ages!\nThe first hour is for the bigger children (ages 10 to 15)\, while the second hour is for the younger ones (ages 5 to 9).\nWhen one group is taking the Arabic class\, the other group attends the Dabkeh practice\, and vice versa.
URL:https://tlacnc.org/event/arabic-class/
LOCATION:Baytna\, 241 Horizon Dr\, Raleigh\, NC\, 27615\, United States
CATEGORIES:Arabic Class,Classes,Dabkeh
ORGANIZER;CN="TLAC":MAILTO:events@tlacnc.org
END:VEVENT
END:VCALENDAR