BEGIN:VCALENDAR
VERSION:2.0
PRODID:-//Triangle Lebanese-American Center (TLAC) - ECPv6.15.20//NONSGML v1.0//EN
CALSCALE:GREGORIAN
METHOD:PUBLISH
X-WR-CALNAME:Triangle Lebanese-American Center (TLAC)
X-ORIGINAL-URL:https://tlacnc.org
X-WR-CALDESC:Events for Triangle Lebanese-American Center (TLAC)
REFRESH-INTERVAL;VALUE=DURATION:PT1H
X-Robots-Tag:noindex
X-PUBLISHED-TTL:PT1H
BEGIN:VTIMEZONE
TZID:America/New_York
BEGIN:DAYLIGHT
TZOFFSETFROM:-0500
TZOFFSETTO:-0400
TZNAME:EDT
DTSTART:20140309T070000
END:DAYLIGHT
BEGIN:STANDARD
TZOFFSETFROM:-0400
TZOFFSETTO:-0500
TZNAME:EST
DTSTART:20141102T060000
END:STANDARD
BEGIN:DAYLIGHT
TZOFFSETFROM:-0500
TZOFFSETTO:-0400
TZNAME:EDT
DTSTART:20150308T070000
END:DAYLIGHT
BEGIN:STANDARD
TZOFFSETFROM:-0400
TZOFFSETTO:-0500
TZNAME:EST
DTSTART:20151101T060000
END:STANDARD
BEGIN:DAYLIGHT
TZOFFSETFROM:-0500
TZOFFSETTO:-0400
TZNAME:EDT
DTSTART:20160313T070000
END:DAYLIGHT
BEGIN:STANDARD
TZOFFSETFROM:-0400
TZOFFSETTO:-0500
TZNAME:EST
DTSTART:20161106T060000
END:STANDARD
BEGIN:DAYLIGHT
TZOFFSETFROM:-0500
TZOFFSETTO:-0400
TZNAME:EDT
DTSTART:20170312T070000
END:DAYLIGHT
BEGIN:STANDARD
TZOFFSETFROM:-0400
TZOFFSETTO:-0500
TZNAME:EST
DTSTART:20171105T060000
END:STANDARD
BEGIN:DAYLIGHT
TZOFFSETFROM:-0500
TZOFFSETTO:-0400
TZNAME:EDT
DTSTART:20180311T070000
END:DAYLIGHT
BEGIN:STANDARD
TZOFFSETFROM:-0400
TZOFFSETTO:-0500
TZNAME:EST
DTSTART:20181104T060000
END:STANDARD
END:VTIMEZONE
BEGIN:VEVENT
DTSTART;TZID=America/New_York:20171119T143000
DTEND;TZID=America/New_York:20171119T180000
DTSTAMP:20260419T235207
CREATED:20171108T032310Z
LAST-MODIFIED:20171108T032310Z
UID:2307-1511101800-1511114400@tlacnc.org
SUMMARY:Independence Day Celebration!
DESCRIPTION:
URL:https://tlacnc.org/event/independence-day-celebration-3/
LOCATION:Baytna\, 241 Horizon Dr\, Raleigh\, NC\, 27615\, United States
ORGANIZER;CN="TLAC":MAILTO:events@tlacnc.org
END:VEVENT
BEGIN:VEVENT
DTSTART;TZID=America/New_York:20171029T160000
DTEND;TZID=America/New_York:20171029T180000
DTSTAMP:20260419T235207
CREATED:20170105T032931Z
LAST-MODIFIED:20170105T032931Z
UID:1732-1509292800-1509300000@tlacnc.org
SUMMARY:Kids Halloween Party
DESCRIPTION:
URL:https://tlacnc.org/event/kids-halloween-party/
LOCATION:Baytna\, 241 Horizon Dr\, Raleigh\, NC\, 27615\, United States
CATEGORIES:2017,Halloween
ORGANIZER;CN="TLAC":MAILTO:events@tlacnc.org
END:VEVENT
BEGIN:VEVENT
DTSTART;TZID=America/New_York:20171020T100000
DTEND;TZID=America/New_York:20171022T220000
DTSTAMP:20260419T235207
CREATED:20170105T032316Z
LAST-MODIFIED:20171023T233707Z
UID:1730-1508493600-1508709600@tlacnc.org
SUMMARY:International Festival
DESCRIPTION:
URL:https://tlacnc.org/event/international-festival-3/
LOCATION:Raleigh Convention Center\, 500 S. Salisbury Street\, Raleigh\, NC\, 27601\, United States
CATEGORIES:2017,Festival,International Festival
END:VEVENT
BEGIN:VEVENT
DTSTART;TZID=America/New_York:20170920T200000
DTEND;TZID=America/New_York:20170920T220000
DTSTAMP:20260419T235207
CREATED:20170901T202415Z
LAST-MODIFIED:20170901T202415Z
UID:2126-1505937600-1505944800@tlacnc.org
SUMMARY:Reception in Honor of H.E. Mr. Gebran Bassil
DESCRIPTION:
URL:https://tlacnc.org/event/reception-honor-h-e-mr-gebran-bassil/
LOCATION:Baytna\, 241 Horizon Dr\, Raleigh\, NC\, 27615\, United States
ORGANIZER;CN="TLAC":MAILTO:events@tlacnc.org
END:VEVENT
BEGIN:VEVENT
DTSTART;TZID=America/New_York:20170910T150000
DTEND;TZID=America/New_York:20170910T173000
DTSTAMP:20260419T235207
CREATED:20170903T005857Z
LAST-MODIFIED:20170903T005857Z
UID:2135-1505055600-1505064600@tlacnc.org
SUMMARY:Sept. 10: Eid El Adha Celebration
DESCRIPTION:
URL:https://tlacnc.org/event/sept-10-eid-el-adha-celebration/
LOCATION:Baytna\, 241 Horizon Dr\, Raleigh\, NC\, 27615\, United States
ORGANIZER;CN="TLAC":MAILTO:events@tlacnc.org
END:VEVENT
BEGIN:VEVENT
DTSTART;TZID=America/New_York:20170824T183000
DTEND;TZID=America/New_York:20170824T203000
DTSTAMP:20260419T235207
CREATED:20170821T232012Z
LAST-MODIFIED:20170822T004557Z
UID:2032-1503599400-1503606600@tlacnc.org
SUMMARY:Reception For Lebanese Fulbright Scholars
DESCRIPTION:
URL:https://tlacnc.org/event/reception-lebanese-fulbright-scholars/
LOCATION:Baytna\, 241 Horizon Dr\, Raleigh\, NC\, 27615\, United States
CATEGORIES:2017,Event,Moise A. Khayrallah Center for Lebanese Diaspora Studies
ORGANIZER;CN="TLAC":MAILTO:events@tlacnc.org
END:VEVENT
BEGIN:VEVENT
DTSTART;TZID=America/New_York:20170611T200000
DTEND;TZID=America/New_York:20170611T223000
DTSTAMP:20260419T235207
CREATED:20170105T025604Z
LAST-MODIFIED:20170512T015346Z
UID:1722-1497211200-1497220200@tlacnc.org
SUMMARY:Iftar Dinner
DESCRIPTION:
URL:https://tlacnc.org/event/iftar-dinner/
LOCATION:Baytna\, 241 Horizon Dr\, Raleigh\, NC\, 27615\, United States
CATEGORIES:2017,Iftar Dinner
ORGANIZER;CN="TLAC":MAILTO:events@tlacnc.org
END:VEVENT
BEGIN:VEVENT
DTSTART;TZID=America/New_York:20170520T190000
DTEND;TZID=America/New_York:20170520T190000
DTSTAMP:20260419T235207
CREATED:20170419T231509Z
LAST-MODIFIED:20170419T231726Z
UID:1939-1495306800-1495306800@tlacnc.org
SUMMARY:St Sharbel Spring Party
DESCRIPTION:
URL:https://tlacnc.org/event/st-sharbel-spring-party/
LOCATION:Renaissance Center\, 405 S. Brooks Street\, Wake Forest\, 27587\, United States
CATEGORIES:St Sharbel
ORGANIZER;CN="St Sharbel - Hady Abi-Aad":MAILTO:abouna@saintsharbelchurch.org
END:VEVENT
BEGIN:VEVENT
DTSTART;TZID=America/New_York:20170408T110000
DTEND;TZID=America/New_York:20170408T190000
DTSTAMP:20260419T235207
CREATED:20170227T015258Z
LAST-MODIFIED:20170227T015542Z
UID:1818-1491649200-1491678000@tlacnc.org
SUMMARY:2017 Lebanese Festival
DESCRIPTION:
URL:https://tlacnc.org/event/2017-lebanese-festival/
LOCATION:Downtown Raleigh – City Plaza\, 400 Fayetteville Street\, Raleigh\, NC\, 27601\, United States
CATEGORIES:2017,Festival,Lebanese Festival
ORGANIZER;CN="TLAC":MAILTO:events@tlacnc.org
END:VEVENT
BEGIN:VEVENT
DTSTART;TZID=America/New_York:20170211T190000
DTEND;TZID=America/New_York:20170211T230000
DTSTAMP:20260419T235207
CREATED:20170105T024350Z
LAST-MODIFIED:20170119T003759Z
UID:1716-1486839600-1486854000@tlacnc.org
SUMMARY:Valentine's Party
DESCRIPTION:
URL:https://tlacnc.org/event/valentines-day-party-2/
LOCATION:Baytna\, 241 Horizon Dr\, Raleigh\, NC\, 27615\, United States
CATEGORIES:2017,Party,Valentine's Day
ORGANIZER;CN="TLAC":MAILTO:events@tlacnc.org
END:VEVENT
BEGIN:VEVENT
DTSTART;TZID=America/New_York:20161221T190000
DTEND;TZID=America/New_York:20161221T230000
DTSTAMP:20260419T235207
CREATED:20161218T040258Z
LAST-MODIFIED:20161218T040258Z
UID:1699-1482346800-1482361200@tlacnc.org
SUMMARY:Game Night!
DESCRIPTION:
URL:https://tlacnc.org/event/game-night/
LOCATION:Baytna\, 241 Horizon Dr\, Raleigh\, NC\, 27615\, United States
CATEGORIES:2016,Game Night
ORGANIZER;CN="TLAC - Game Night":MAILTO:ziad123@hotmail.com
END:VEVENT
BEGIN:VEVENT
DTSTART;TZID=America/New_York:20161217T190000
DTEND;TZID=America/New_York:20161218T000000
DTSTAMP:20260419T235207
CREATED:20161115T022326Z
LAST-MODIFIED:20161218T040440Z
UID:1550-1482001200-1482019200@tlacnc.org
SUMMARY:St Sharbel Christmas Party
DESCRIPTION:
URL:https://tlacnc.org/event/st-charbel-christmas-party-2/
LOCATION:Durham Armory\, 220 Foster St\, Durham\, NC\, 27701\, United States
CATEGORIES:2016
ORGANIZER;CN="St Sharbel":MAILTO:abouna@scmcnc.org
END:VEVENT
BEGIN:VEVENT
DTSTART;TZID=America/New_York:20161120T143000
DTEND;TZID=America/New_York:20161120T180000
DTSTAMP:20260419T235207
CREATED:20161104T012124Z
LAST-MODIFIED:20161104T012124Z
UID:1530-1479652200-1479664800@tlacnc.org
SUMMARY:Independence Day Celebration
DESCRIPTION:
URL:https://tlacnc.org/event/independence-day-celebration-2/
LOCATION:Baytna\, 241 Horizon Dr\, Raleigh\, NC\, 27615\, United States
ORGANIZER;CN="TLAC":MAILTO:events@tlacnc.org
END:VEVENT
BEGIN:VEVENT
DTSTART;TZID=America/New_York:20160525T190000
DTEND;TZID=America/New_York:20160525T230000
DTSTAMP:20260419T235207
CREATED:20160521T163636Z
LAST-MODIFIED:20160521T164834Z
UID:1397-1464202800-1464217200@tlacnc.org
SUMMARY:Game Night: Leekha\, Tawlet Zahr\, and Ping Pong
DESCRIPTION:
URL:https://tlacnc.org/event/game-night-leekha-tawlet-zahr-ping-pong-2/
LOCATION:Baytna\, 241 Horizon Dr\, Raleigh\, NC\, 27615\, United States
ORGANIZER;CN="TLAC - Game Night":MAILTO:ziad123@hotmail.com
END:VEVENT
BEGIN:VEVENT
DTSTART;TZID=America/New_York:20160507T080000
DTEND;TZID=America/New_York:20160507T170000
DTSTAMP:20260419T235207
CREATED:20160108T221202Z
LAST-MODIFIED:20160108T221202Z
UID:1030-1462608000-1462640400@tlacnc.org
SUMMARY:Dabke Competition
DESCRIPTION:
URL:https://tlacnc.org/event/dabke-competition/
LOCATION:NC Museumof History\, 5 E Edenton St\, Raleigh\, NC\, 27601\, United States
CATEGORIES:2016,Dabkeh
END:VEVENT
BEGIN:VEVENT
DTSTART;VALUE=DATE:20160402
DTEND;VALUE=DATE:20160403
DTSTAMP:20260419T235207
CREATED:20160108T220645Z
LAST-MODIFIED:20160218T035358Z
UID:1028-1459555200-1459641599@tlacnc.org
SUMMARY:2016 Lebanese Festival
DESCRIPTION:
URL:https://tlacnc.org/event/2016-lebanese-festival/
LOCATION:Downtown Raleigh – City Plaza\, 400 Fayetteville Street\, Raleigh\, NC\, 27601\, United States
CATEGORIES:2016,Festival,Lebanese Festival
ORGANIZER;CN="TLAC":MAILTO:events@tlacnc.org
END:VEVENT
BEGIN:VEVENT
DTSTART;TZID=America/New_York:20160323T190000
DTEND;TZID=America/New_York:20160323T230000
DTSTAMP:20260419T235207
CREATED:20160303T013440Z
LAST-MODIFIED:20160303T013440Z
UID:1140-1458759600-1458774000@tlacnc.org
SUMMARY:Game Night: Leekha\, Tawlet Zahr\, and Ping Pong
DESCRIPTION:
URL:https://tlacnc.org/event/game-night-leekha-tawlet-zahr-ping-pong/
LOCATION:Baytna\, 241 Horizon Dr\, Raleigh\, NC\, 27615\, United States
CATEGORIES:2016,Game Night
ORGANIZER;CN="TLAC - Game Night":MAILTO:ziad123@hotmail.com
END:VEVENT
BEGIN:VEVENT
DTSTART;TZID=America/New_York:20160303T190000
DTEND;TZID=America/New_York:20160303T203000
DTSTAMP:20260419T235207
CREATED:20160302T031348Z
LAST-MODIFIED:20160302T031348Z
UID:1136-1457031600-1457037000@tlacnc.org
SUMMARY:Lecture Series: Environment and Health in the Lebanese home
DESCRIPTION:
URL:https://tlacnc.org/event/lecture-series-environment-health-lebanese-home/
LOCATION:Baytna\, 241 Horizon Dr\, Raleigh\, NC\, 27615\, United States
CATEGORIES:2016,Lecture Series
ORGANIZER;CN="TLAC - Lecture Series":MAILTO:blibbus@gmail.com
END:VEVENT
BEGIN:VEVENT
DTSTART;VALUE=DATE:20160216
DTEND;VALUE=DATE:20160217
DTSTAMP:20260419T235207
CREATED:20160108T220115Z
LAST-MODIFIED:20160108T220115Z
UID:1026-1455580800-1455667199@tlacnc.org
SUMMARY:Life Line Screening
DESCRIPTION:
URL:https://tlacnc.org/event/life-line-screening/
LOCATION:Baytna\, 241 Horizon Dr\, Raleigh\, NC\, 27615\, United States
CATEGORIES:2016,Life Line
END:VEVENT
BEGIN:VEVENT
DTSTART;TZID=America/New_York:20160213T190000
DTEND;TZID=America/New_York:20160213T190000
DTSTAMP:20260419T235207
CREATED:20160108T215805Z
LAST-MODIFIED:20160208T171841Z
UID:1025-1455390000-1455390000@tlacnc.org
SUMMARY:Valentine's Day Party
DESCRIPTION:
URL:https://tlacnc.org/event/valentines-day-party/
LOCATION:Baytna\, 241 Horizon Dr\, Raleigh\, NC\, 27615\, United States
CATEGORIES:2016,Valentine's Day
ORGANIZER;CN="TLAC":MAILTO:events@tlacnc.org
END:VEVENT
BEGIN:VEVENT
DTSTART;TZID=America/New_York:20160203T193000
DTEND;TZID=America/New_York:20160203T213000
DTSTAMP:20260419T235207
CREATED:20160108T215453Z
LAST-MODIFIED:20160202T034143Z
UID:1023-1454527800-1454535000@tlacnc.org
SUMMARY:Game Night: Leekha and Tawlet Zahr
DESCRIPTION:
URL:https://tlacnc.org/event/game-night-leekha-and-tawlet-zahr/
LOCATION:Baytna\, 241 Horizon Dr\, Raleigh\, NC\, 27615\, United States
CATEGORIES:2016,Game Night
ORGANIZER;CN="TLAC - Game Night":MAILTO:ziad123@hotmail.com
END:VEVENT
BEGIN:VEVENT
DTSTART;TZID=America/New_York:20160129T190000
DTEND;TZID=America/New_York:20160129T210000
DTSTAMP:20260419T235207
CREATED:20160108T215009Z
LAST-MODIFIED:20160108T215100Z
UID:1020-1454094000-1454101200@tlacnc.org
SUMMARY:Lecture Series: Cedars of Lebanon By Dr. Abdul-Baki
DESCRIPTION:
URL:https://tlacnc.org/event/lecture-series-friday-january-29th-700pm-dr-abdul-baki/
LOCATION:Baytna\, 241 Horizon Dr\, Raleigh\, NC\, 27615\, United States
CATEGORIES:2016,Lecture Series
ORGANIZER;CN="TLAC - Lecture Series":MAILTO:blibbus@gmail.com
END:VEVENT
BEGIN:VEVENT
DTSTART;TZID=America/New_York:20160110T160000
DTEND;TZID=America/New_York:20160110T180000
DTSTAMP:20260419T235207
CREATED:20151218T002022Z
LAST-MODIFIED:20151218T002022Z
UID:986-1452441600-1452448800@tlacnc.org
SUMMARY:Parent Orientation Meeting
DESCRIPTION:
URL:https://tlacnc.org/event/parent-orientation-meeting/
LOCATION:Baytna\, 241 Horizon Dr\, Raleigh\, NC\, 27615\, United States
CATEGORIES:Arabic Class,Classes,Dabkeh,Festival,Lebanese Festival
ORGANIZER;CN="TLAC":MAILTO:events@tlacnc.org
END:VEVENT
BEGIN:VEVENT
DTSTART;TZID=America/New_York:20151220T160000
DTEND;TZID=America/New_York:20151220T180000
DTSTAMP:20260419T235207
CREATED:20151108T184027Z
LAST-MODIFIED:20151202T132521Z
UID:842-1450627200-1450634400@tlacnc.org
SUMMARY:Santa is Coming again!
DESCRIPTION:
URL:https://tlacnc.org/event/santa-is-coming-again/
LOCATION:Baytna\, 241 Horizon Dr\, Raleigh\, NC\, 27615\, United States
CATEGORIES:Christmas,Party,Santa
ORGANIZER;CN="TLAC":MAILTO:events@tlacnc.org
END:VEVENT
BEGIN:VEVENT
DTSTART;TZID=America/New_York:20151220T160000
DTEND;TZID=America/New_York:20151220T180000
DTSTAMP:20260419T235207
CREATED:20150927T162617Z
LAST-MODIFIED:20150930T195701Z
UID:569-1450627200-1450634400@tlacnc.org
SUMMARY:Special Arabic Classes
DESCRIPTION:
URL:https://tlacnc.org/event/special-arabic-classes/
LOCATION:Baytna\, 241 Horizon Dr\, Raleigh\, NC\, 27615\, United States
CATEGORIES:Arabic Class,Classes,Dabkeh
ORGANIZER;CN="TLAC":MAILTO:events@tlacnc.org
END:VEVENT
BEGIN:VEVENT
DTSTART;TZID=America/New_York:20151213T160000
DTEND;TZID=America/New_York:20151213T180000
DTSTAMP:20260419T235207
CREATED:20150927T162427Z
LAST-MODIFIED:20151213T161846Z
UID:568-1450022400-1450029600@tlacnc.org
SUMMARY:Arabic Classes and Activities
DESCRIPTION:
URL:https://tlacnc.org/event/arabic-classes-and-activities-7/
LOCATION:Baytna\, 241 Horizon Dr\, Raleigh\, NC\, 27615\, United States
CATEGORIES:Arabic Class,Classes,Dabkeh
ORGANIZER;CN="TLAC":MAILTO:events@tlacnc.org
END:VEVENT
BEGIN:VEVENT
DTSTART;TZID=America/New_York:20151206T160000
DTEND;TZID=America/New_York:20151206T180000
DTSTAMP:20260419T235207
CREATED:20150927T162322Z
LAST-MODIFIED:20150930T195853Z
UID:567-1449417600-1449424800@tlacnc.org
SUMMARY:Arabic Classes and Activities
DESCRIPTION:
URL:https://tlacnc.org/event/arabic-classes-and-activities-6/
LOCATION:Baytna\, 241 Horizon Dr\, Raleigh\, NC\, 27615\, United States
ORGANIZER;CN="TLAC":MAILTO:events@tlacnc.org
END:VEVENT
BEGIN:VEVENT
DTSTART;TZID=America/New_York:20151122T140000
DTEND;TZID=America/New_York:20151122T180000
DTSTAMP:20260419T235207
CREATED:20151108T175248Z
LAST-MODIFIED:20151108T234745Z
UID:839-1448200800-1448215200@tlacnc.org
SUMMARY:Independence Day Celebration
DESCRIPTION:
URL:https://tlacnc.org/event/independence-day-celebration/
LOCATION:Baytna\, 241 Horizon Dr\, Raleigh\, NC\, 27615\, United States
CATEGORIES:Independence Day,Party
ORGANIZER;CN="TLAC":MAILTO:events@tlacnc.org
END:VEVENT
BEGIN:VEVENT
DTSTART;TZID=America/New_York:20151115T130000
DTEND;TZID=America/New_York:20151115T150000
DTSTAMP:20260419T235207
CREATED:20150927T162158Z
LAST-MODIFIED:20151115T161602Z
UID:566-1447592400-1447599600@tlacnc.org
SUMMARY:Arabic Classes and Activities
DESCRIPTION:
URL:https://tlacnc.org/event/arabic-classes-and-activities-5/
LOCATION:Baytna\, 241 Horizon Dr\, Raleigh\, NC\, 27615\, United States
CATEGORIES:Arabic Class,Classes,Dabkeh
ORGANIZER;CN="TLAC":MAILTO:events@tlacnc.org
END:VEVENT
BEGIN:VEVENT
DTSTART;TZID=America/New_York:20151114T190000
DTEND;TZID=America/New_York:20151114T233000
DTSTAMP:20260419T235207
CREATED:20151108T173535Z
LAST-MODIFIED:20151108T235412Z
UID:837-1447527600-1447543800@tlacnc.org
SUMMARY:St Charbel Christmas Party
DESCRIPTION:
URL:https://tlacnc.org/event/st-charbel-christmas-party/
LOCATION:St Ignatius Hall\, 5801 Falls of Neuse Rd\, Raleigh\, NC\, 27609\, United States
CATEGORIES:Christmas,Party
ORGANIZER;CN="St Sharbel":MAILTO:abouna@scmcnc.org
END:VEVENT
END:VCALENDAR