BEGIN:VCALENDAR
VERSION:2.0
PRODID:-//Triangle Lebanese-American Center (TLAC) - ECPv6.15.20//NONSGML v1.0//EN
CALSCALE:GREGORIAN
METHOD:PUBLISH
X-WR-CALNAME:Triangle Lebanese-American Center (TLAC)
X-ORIGINAL-URL:https://tlacnc.org
X-WR-CALDESC:Events for Triangle Lebanese-American Center (TLAC)
REFRESH-INTERVAL;VALUE=DURATION:PT1H
X-Robots-Tag:noindex
X-PUBLISHED-TTL:PT1H
BEGIN:VTIMEZONE
TZID:America/New_York
BEGIN:DAYLIGHT
TZOFFSETFROM:-0500
TZOFFSETTO:-0400
TZNAME:EDT
DTSTART:20150308T070000
END:DAYLIGHT
BEGIN:STANDARD
TZOFFSETFROM:-0400
TZOFFSETTO:-0500
TZNAME:EST
DTSTART:20151101T060000
END:STANDARD
BEGIN:DAYLIGHT
TZOFFSETFROM:-0500
TZOFFSETTO:-0400
TZNAME:EDT
DTSTART:20160313T070000
END:DAYLIGHT
BEGIN:STANDARD
TZOFFSETFROM:-0400
TZOFFSETTO:-0500
TZNAME:EST
DTSTART:20161106T060000
END:STANDARD
BEGIN:DAYLIGHT
TZOFFSETFROM:-0500
TZOFFSETTO:-0400
TZNAME:EDT
DTSTART:20170312T070000
END:DAYLIGHT
BEGIN:STANDARD
TZOFFSETFROM:-0400
TZOFFSETTO:-0500
TZNAME:EST
DTSTART:20171105T060000
END:STANDARD
BEGIN:DAYLIGHT
TZOFFSETFROM:-0500
TZOFFSETTO:-0400
TZNAME:EDT
DTSTART:20180311T070000
END:DAYLIGHT
BEGIN:STANDARD
TZOFFSETFROM:-0400
TZOFFSETTO:-0500
TZNAME:EST
DTSTART:20181104T060000
END:STANDARD
BEGIN:DAYLIGHT
TZOFFSETFROM:-0500
TZOFFSETTO:-0400
TZNAME:EDT
DTSTART:20190310T070000
END:DAYLIGHT
BEGIN:STANDARD
TZOFFSETFROM:-0400
TZOFFSETTO:-0500
TZNAME:EST
DTSTART:20191103T060000
END:STANDARD
BEGIN:DAYLIGHT
TZOFFSETFROM:-0500
TZOFFSETTO:-0400
TZNAME:EDT
DTSTART:20200308T070000
END:DAYLIGHT
BEGIN:STANDARD
TZOFFSETFROM:-0400
TZOFFSETTO:-0500
TZNAME:EST
DTSTART:20201101T060000
END:STANDARD
END:VTIMEZONE
BEGIN:VEVENT
DTSTART;TZID=America/New_York:20190207T193000
DTEND;TZID=America/New_York:20190207T210000
DTSTAMP:20260420T042029
CREATED:20190120T165235Z
LAST-MODIFIED:20200128T004030Z
UID:5258-1549567800-1549573200@tlacnc.org
SUMMARY:Financial Workshop: Eliminating Debt and Optimizing your Credit Score
DESCRIPTION:In our effort to expand the variety of cultural activities at Baytna\, we are adding another series of workshops that aim to help manage and grow people’s financial resources. \nRoy Alame is a well qualified\, experienced\, and successful wealth advisor with over 10 years of advising clients and helping business owners. \nHe will present workshops on trading\, optimizing credit and eliminating debt\, reducing tax burden for business owners\, equipping women for financial security\, and enabling youth to keep their credit score high. \nToday’s workshop: \nGame the credit score formula to get you to whatever score you desire no matter what’s holding it back. And pay off debt in half the time without incurring more debt or refinancing. \nRoy Alame\, CPFA®\, RAFA\, MBA\, is a private wealth advisor
URL:https://tlacnc.org/event/financial-workshop-eliminating-debt-and-optimizing-your-credit-score/
LOCATION:Baytna\, 241 Horizon Dr\, Raleigh\, NC\, 27615\, United States
CATEGORIES:2019,Finance,Workshop
ORGANIZER;CN="TLAC":MAILTO:events@tlacnc.org
END:VEVENT
BEGIN:VEVENT
DTSTART;TZID=America/New_York:20190124T193000
DTEND;TZID=America/New_York:20190124T210000
DTSTAMP:20260420T042029
CREATED:20190120T165049Z
LAST-MODIFIED:20200128T004239Z
UID:5218-1548358200-1548363600@tlacnc.org
SUMMARY:Financial Workshop: Trading stocks\, bonds\, or derivatives
DESCRIPTION:In our effort to expand the variety of cultural activities at Baytna\, we are adding another series of workshops that aim to help manage and grow people’s financial resources. \nRoy Alame is a well qualified\, experienced\, and successful wealth advisor with over 10 years of advising clients and helping business owners. \nHe will present workshops on trading\, optimizing credit and eliminating debt\, reducing tax burden for business owners\, equipping women for financial security\, and enabling youth to keep their credit score high. \nToday’s workshop: \nDifferent strategies that enable you to supplement your income with various markets. And multiple ways people successfully predict and trade the markets today.\na. This might need more than one class depending on popularity.\nb. There are suggested readings if people want to make this a regular club \nRoy Alame\, CPFA®\, RAFA\, MBA\, is a private wealth advisor
URL:https://tlacnc.org/event/financial-workshop-trading-stocks-bonds-or-derivatives/
LOCATION:Baytna\, 241 Horizon Dr\, Raleigh\, NC\, 27615\, United States
CATEGORIES:2019,Finance,Workshop
ORGANIZER;CN="TLAC":MAILTO:events@tlacnc.org
END:VEVENT
BEGIN:VEVENT
DTSTART;TZID=America/New_York:20181223T140000
DTEND;TZID=America/New_York:20181223T170000
DTSTAMP:20260420T042029
CREATED:20181205T002017Z
LAST-MODIFIED:20181205T002017Z
UID:3356-1545573600-1545584400@tlacnc.org
SUMMARY:Christmas Get Together
DESCRIPTION:
URL:https://tlacnc.org/event/christmas-get-together/
LOCATION:Baytna\, 241 Horizon Dr\, Raleigh\, NC\, 27615\, United States
CATEGORIES:2018,Christmas,Party,Santa
ORGANIZER;CN="TLAC":MAILTO:events@tlacnc.org
END:VEVENT
BEGIN:VEVENT
DTSTART;TZID=America/New_York:20181129T193000
DTEND;TZID=America/New_York:20181129T210000
DTSTAMP:20260420T042029
CREATED:20190424T001129Z
LAST-MODIFIED:20190424T001146Z
UID:9467-1543519800-1543525200@tlacnc.org
SUMMARY:Turning Points in Middle Eastern History - This Week's Lecture
DESCRIPTION:Dear Friends\, \nWe continue with our course Turning Points in the History of the Middle East\, by viewing two lectures: \n17. The Egyptian Mamluks – 1250\n18. Mongols Sack Baghdad – 1258 \nThe thirteenth century was a pivotal time for the Middle East\, with the sacking of Baghdad marking the en of the Islamic Golden age (750-1250). \nI look forward to seeing you on Thursday. \nBisharah
URL:https://tlacnc.org/event/turning-points-in-middle-eastern-history-this-weeks-lecture-5/
LOCATION:Baytna\, 241 Horizon Dr\, Raleigh\, NC\, 27615\, United States
CATEGORIES:2018,Awareness,Turning Points in Middle Eastern History
ORGANIZER;CN="TLAC - Bisharah":MAILTO:blibbus@gmail.com
END:VEVENT
BEGIN:VEVENT
DTSTART;TZID=America/New_York:20181118T143000
DTEND;TZID=America/New_York:20181118T180000
DTSTAMP:20260420T042029
CREATED:20181102T022524Z
LAST-MODIFIED:20181102T022524Z
UID:3201-1542551400-1542564000@tlacnc.org
SUMMARY:Independence Day Celebration
DESCRIPTION:
URL:https://tlacnc.org/event/independence-day-celebration-4/
LOCATION:Baytna\, 241 Horizon Dr\, Raleigh\, NC\, 27615\, United States
CATEGORIES:2018,Independence Day
ORGANIZER;CN="TLAC":MAILTO:events@tlacnc.org
END:VEVENT
BEGIN:VEVENT
DTSTART;TZID=America/New_York:20181108T193000
DTEND;TZID=America/New_York:20181108T210000
DTSTAMP:20260420T042029
CREATED:20190424T000837Z
LAST-MODIFIED:20190424T000837Z
UID:9465-1541705400-1541710800@tlacnc.org
SUMMARY:Turning Points in Middle Eastern History - This Week's Lecture
DESCRIPTION:Dear Friends\, \nWe continue with our course TURNING POINTS IN MIDDLE EASTERN HISTORY this Thursday\, Nov 8th at 7:30pm\, at Baytna (241Horizon Dr. on Raleigh). The two lectures on the schedule are: \n13. Al-Ghazali and Orthodoxy\n14. Crusaders Capture Jerusalem \nSee you then. \nBisharah
URL:https://tlacnc.org/event/turning-points-in-middle-eastern-history-this-weeks-lecture-4/
LOCATION:Baytna\, 241 Horizon Dr\, Raleigh\, NC\, 27615\, United States
CATEGORIES:2018,Awareness,Turning Points in Middle Eastern History
ORGANIZER;CN="TLAC - Bisharah":MAILTO:blibbus@gmail.com
END:VEVENT
BEGIN:VEVENT
DTSTART;TZID=America/New_York:20181101T193000
DTEND;TZID=America/New_York:20181101T210000
DTSTAMP:20260420T042029
CREATED:20190424T000220Z
LAST-MODIFIED:20190424T000438Z
UID:9462-1541100600-1541106000@tlacnc.org
SUMMARY:Turning Points in Middle Eastern History - This Week's Lecture
DESCRIPTION:Dear Friends\, \nFor a few weeks now a group of us has been meeting at Baytna to view a course on TURNING POINTS IN MIDDLE EASTERN HISTORY. The lectures have proven to be engaging\, interesting\, and informative. I am writing to invite you to join us for this week’s lecture (Thursday at 7:30pm): \n\nThe Fatimids of Cairo\nUmayyad Exile in Cordoba\n\nZiad Noueihed will moderate the class. I will be away in Minnesota spending time with our grand children. I trust you will have an enjoyable and stimulating evening. \nWith best regards\, \nBisharah Libbus
URL:https://tlacnc.org/event/turning-points-in-middle-eastern-history-this-weeks-lecture-3/
LOCATION:Baytna\, 241 Horizon Dr\, Raleigh\, NC\, 27615\, United States
CATEGORIES:2018,Awareness,Turning Points in Middle Eastern History
ORGANIZER;CN="TLAC - Bisharah":MAILTO:blibbus@gmail.com
END:VEVENT
BEGIN:VEVENT
DTSTART;TZID=America/New_York:20181026T100000
DTEND;TZID=America/New_York:20181028T220000
DTSTAMP:20260420T042029
CREATED:20181026T005223Z
LAST-MODIFIED:20181026T005223Z
UID:3193-1540548000-1540764000@tlacnc.org
SUMMARY:33rd International Festival of Raleigh
DESCRIPTION:
URL:https://tlacnc.org/event/33rd-international-festival-of-raleigh/
LOCATION:Raleigh Convention Center\, 500 S. Salisbury Street\, Raleigh\, NC\, 27601\, United States
CATEGORIES:2018,Festival,International Festival
END:VEVENT
BEGIN:VEVENT
DTSTART;TZID=America/New_York:20181018T193000
DTEND;TZID=America/New_York:20181018T210000
DTSTAMP:20260420T042029
CREATED:20190423T235903Z
LAST-MODIFIED:20190424T000358Z
UID:9460-1539891000-1539896400@tlacnc.org
SUMMARY:Turning Points in Middle Eastern History - This Week's Lecture
DESCRIPTION:Dear Friends\, \nFor a few weeks now a group of us has been meeting at Baytna to view a course on TURNING POINTS IN MIDDLE EASTERN HISTORY. The lectures have proven to be engaging\, interesting\, and informative. I am writing to invite you to join us for this week’s lecture (Thursday at 7:30pm): \n\nIslamic Golden Age Begins\nQairouan University\n\nI look forward to seeing you this Thursday at 7:30pm\, and feel free to invite friends and your students. \nWith best regards\, \nBisharah
URL:https://tlacnc.org/event/turning-points-in-middle-eastern-history-this-weeks-lecture-2/
LOCATION:Baytna\, 241 Horizon Dr\, Raleigh\, NC\, 27615\, United States
CATEGORIES:2018,Awareness,Turning Points in Middle Eastern History
ORGANIZER;CN="TLAC - Bisharah":MAILTO:blibbus@gmail.com
END:VEVENT
BEGIN:VEVENT
DTSTART;TZID=America/New_York:20181004T193000
DTEND;TZID=America/New_York:20181004T210000
DTSTAMP:20260420T042029
CREATED:20190423T235438Z
LAST-MODIFIED:20190423T235510Z
UID:9457-1538681400-1538686800@tlacnc.org
SUMMARY:Turning Points in Middle Eastern History - This Week's Lecture
DESCRIPTION:Dear Friends\, \nFor a few weeks now a group of us has been meeting at Baytna to view a course on TURNING POINTS IN MIDDLE EASTERN HISTORY. The lectures have proven to be engaging\, interesting\, and informative. I am writing to invite you to join us for this week’s lecture (Thursday at 7:30pm): \n\nBattle of Talas\nThe Founding of Baghdad\n\nI look forward to seeing you\, and feel free to invite friends and your students. \nWith best regards\, \nBisharah Libbus
URL:https://tlacnc.org/event/turning-points-in-middle-eastern-history-this-weeks-lecture/
LOCATION:Baytna\, 241 Horizon Dr\, Raleigh\, NC\, 27615\, United States
CATEGORIES:2018,Awareness,Turning Points in Middle Eastern History
ORGANIZER;CN="TLAC - Bisharah":MAILTO:blibbus@gmail.com
END:VEVENT
BEGIN:VEVENT
DTSTART;TZID=America/New_York:20180819T150000
DTEND;TZID=America/New_York:20180819T180000
DTSTAMP:20260420T042029
CREATED:20180801T195523Z
LAST-MODIFIED:20180801T195523Z
UID:3132-1534690800-1534701600@tlacnc.org
SUMMARY:Eid El Adha Picnic at the TLAC - August 19 - 3pm - 6pm
DESCRIPTION:
URL:https://tlacnc.org/event/eid-el-adha-picnic-at-the-tlac-august-19-3pm-6pm/
LOCATION:Baytna\, 241 Horizon Dr\, Raleigh\, NC\, 27615\, United States
CATEGORIES:2018,Eid El Adha Party
ORGANIZER;CN="TLAC":MAILTO:events@tlacnc.org
END:VEVENT
BEGIN:VEVENT
DTSTART;TZID=America/New_York:20180526T170000
DTEND;TZID=America/New_York:20180526T180000
DTSTAMP:20260420T042029
CREATED:20180516T230952Z
LAST-MODIFIED:20180523T003758Z
UID:3042-1527354000-1527357600@tlacnc.org
SUMMARY:Stroke Awareness Month – Education Session
DESCRIPTION:UPDATE: \nWe are pleased and honored to announce that Dr. David Huang\, MD\, has nicely accepted to join the stroke awareness session scheduled for May 26\, at 5:00 pm at Baytna. Professor Huang is the Director of UNC Hospitals Stroke Center. He is also Chief of the Division of Stroke and Vascular Neurology at UNC. \nPlease join us in welcoming all the speakers by attending the event. \n  \nDear Friends\, \nThe Triangle Lebanese American Center is organizing an education session related to Stroke\, a medical ‘emergency’ condition requiring prompt response from patients as well as relatives and friends. \nThe month of May is designated nationwide as stroke month. Medical professionals are taking initiatives to share their knowledge about this condition\, raising awareness about rapid changes in guidelines and treatment. As such\, it is with great commitment that our community member Mrs. Sherene Bitar\, RN\, MPH\, has taken the initiative and will lead the education session. Sherene has kindly offered to invite UNC stroke doctors to join the event and answer questions related to this topic. \nYou are all kindly invited to attend the education session. In advance\, we would like to thank Mrs. Sherene Bitar for this great contribution to our community. \nOn behalf of the TLAC Board\, \nAndre Khairallah
URL:https://tlacnc.org/event/stroke-awareness-month-education-session/
LOCATION:Baytna\, 241 Horizon Dr\, Raleigh\, NC\, 27615\, United States
CATEGORIES:2018,Awareness
ORGANIZER;CN="TLAC":MAILTO:events@tlacnc.org
END:VEVENT
BEGIN:VEVENT
DTSTART;TZID=America/New_York:20180509T190000
DTEND;TZID=America/New_York:20180509T213000
DTSTAMP:20260420T042029
CREATED:20180507T224935Z
LAST-MODIFIED:20180507T224935Z
UID:3035-1525892400-1525901400@tlacnc.org
SUMMARY:Town Hall Meeting
DESCRIPTION:Dear members & friends of the TLAC\, \nPlease mark your calendars for this coming Wednesday\, May 9th from 7pm to 9:30 pm for our first town hall meeting at Baytna\, 241 Horizon Dr. Raleigh NC 27615. The event will also be live streamed on our Facebook page where you can type your questions. \nWe are looking forward to hear your ideas\, suggestions & comments so that our dear TLAC will grow & succeed more & more. \nHope to see many of you there! \nFrom the board members of the TLAC
URL:https://tlacnc.org/event/town-hall-meeting/
LOCATION:Baytna\, 241 Horizon Dr\, Raleigh\, NC\, 27615\, United States
ORGANIZER;CN="TLAC":MAILTO:events@tlacnc.org
END:VEVENT
BEGIN:VEVENT
DTSTART;TZID=America/New_York:20180414T110000
DTEND;TZID=America/New_York:20180414T190000
DTSTAMP:20260420T042029
CREATED:20180307T235622Z
LAST-MODIFIED:20180307T235622Z
UID:2721-1523703600-1523732400@tlacnc.org
SUMMARY:2018 Lebanese Festival
DESCRIPTION:
URL:https://tlacnc.org/event/2018-lebanese-festival/
LOCATION:Downtown Raleigh – City Plaza\, 400 Fayetteville Street\, Raleigh\, NC\, 27601\, United States
CATEGORIES:2018,Festival,Lebanese Festival
ORGANIZER;CN="TLAC":MAILTO:events@tlacnc.org
END:VEVENT
BEGIN:VEVENT
DTSTART;TZID=America/New_York:20180325T160000
DTEND;TZID=America/New_York:20180325T180000
DTSTAMP:20260420T042029
CREATED:20180321T224351Z
LAST-MODIFIED:20180321T224515Z
UID:2735-1521993600-1522000800@tlacnc.org
SUMMARY:Lebanese Poetry By Zeina Hashem Beck
DESCRIPTION:Please join us to welcome a poet from Lebanon\, Zeina Hashem Beck\, who will be in Raleigh to present her latest book\, Louder than Hearts. The event will take place on March 25 at 4:00 pm\, at the Contemporary Art Museum (CAM) of Raleigh\, 409 W Martin St\, Raleigh\, North Carolina 27603. \nZeina Hashem Beck’s writing covers a variety of topics: Arab culture\, home\, exile\, family narratives\, language\, identity\, female voices\, and religion. Her poetry often exists at the intersections of the personal & the political\, the divine & the profane\, the self & the other. She is interested in  poetry that witnesses\, resists the orientalist’s gaze\, creates small bridges\, and insists on loving the broken world\, on the power of song even in the dark times. Educated in Arabic\, English\, and French\, her poems are often reflections on linguistic and cultural translation. \nFacebook for the event: https://www.facebook.com/events/1561823677247644/ \nZeina Hashem Beck’s web page: http://www.zeinahashembeck.com/
URL:https://tlacnc.org/event/lebanese-poetry-by-zeina-hashem-beck/
LOCATION:CAM Raleigh\, 409 W Martin St\, \, Raleigh\, NC\, 27603
CATEGORIES:2018,Event,Poetry
END:VEVENT
BEGIN:VEVENT
DTSTART;TZID=America/New_York:20180316T190000
DTEND;TZID=America/New_York:20180316T210000
DTSTAMP:20260420T042029
CREATED:20180307T234909Z
LAST-MODIFIED:20180307T234909Z
UID:2717-1521226800-1521234000@tlacnc.org
SUMMARY:Mother's Day Celebration
DESCRIPTION:
URL:https://tlacnc.org/event/mothers-day-celebration/
LOCATION:Baytna\, 241 Horizon Dr\, Raleigh\, NC\, 27615\, United States
CATEGORIES:2018,Mother's Day
ORGANIZER;CN="TLAC - Noha":MAILTO:nohasn@aol.com
END:VEVENT
BEGIN:VEVENT
DTSTART;TZID=America/New_York:20180210T190000
DTEND;TZID=America/New_York:20180210T230000
DTSTAMP:20260420T042029
CREATED:20171214T005233Z
LAST-MODIFIED:20180125T010141Z
UID:2329-1518289200-1518303600@tlacnc.org
SUMMARY:Valentine's Party
DESCRIPTION:
URL:https://tlacnc.org/event/valentines-day-party-3/
LOCATION:Baytna\, 241 Horizon Dr\, Raleigh\, NC\, 27615\, United States
CATEGORIES:2018,Valentine's Day
ORGANIZER;CN="TLAC":MAILTO:events@tlacnc.org
END:VEVENT
BEGIN:VEVENT
DTSTART;TZID=America/New_York:20180120T190000
DTEND;TZID=America/New_York:20180120T220000
DTSTAMP:20260420T042029
CREATED:20180111T030931Z
LAST-MODIFIED:20180111T030931Z
UID:2490-1516474800-1516485600@tlacnc.org
SUMMARY:Dinner Invitation Honoring Dr. Moise Khayrallah and Mr. Chaoukat Nasrallah
DESCRIPTION:
URL:https://tlacnc.org/event/dinner-invitation-honoring-dr-moise-khayrallah-mr-chaoukat-nasrallah/
LOCATION:Baytna\, 241 Horizon Dr\, Raleigh\, NC\, 27615\, United States
CATEGORIES:2018
ORGANIZER;CN="TLAC":MAILTO:events@tlacnc.org
END:VEVENT
BEGIN:VEVENT
DTSTART;TZID=America/New_York:20171217T140000
DTEND;TZID=America/New_York:20171217T170000
DTSTAMP:20260420T042029
CREATED:20170105T033820Z
LAST-MODIFIED:20171210T032907Z
UID:1736-1513519200-1513530000@tlacnc.org
SUMMARY:Christmas Get Together
DESCRIPTION:
URL:https://tlacnc.org/event/kids-christmas-party/
LOCATION:Baytna\, 241 Horizon Dr\, Raleigh\, NC\, 27615\, United States
CATEGORIES:2017,Christmas,Santa
ORGANIZER;CN="TLAC":MAILTO:events@tlacnc.org
END:VEVENT
BEGIN:VEVENT
DTSTART;TZID=America/New_York:20171119T143000
DTEND;TZID=America/New_York:20171119T180000
DTSTAMP:20260420T042029
CREATED:20171108T032310Z
LAST-MODIFIED:20171108T032310Z
UID:2307-1511101800-1511114400@tlacnc.org
SUMMARY:Independence Day Celebration!
DESCRIPTION:
URL:https://tlacnc.org/event/independence-day-celebration-3/
LOCATION:Baytna\, 241 Horizon Dr\, Raleigh\, NC\, 27615\, United States
ORGANIZER;CN="TLAC":MAILTO:events@tlacnc.org
END:VEVENT
BEGIN:VEVENT
DTSTART;TZID=America/New_York:20171029T160000
DTEND;TZID=America/New_York:20171029T180000
DTSTAMP:20260420T042029
CREATED:20170105T032931Z
LAST-MODIFIED:20170105T032931Z
UID:1732-1509292800-1509300000@tlacnc.org
SUMMARY:Kids Halloween Party
DESCRIPTION:Details coming soon… \n 
URL:https://tlacnc.org/event/kids-halloween-party/
LOCATION:Baytna\, 241 Horizon Dr\, Raleigh\, NC\, 27615\, United States
CATEGORIES:2017,Halloween
ORGANIZER;CN="TLAC":MAILTO:events@tlacnc.org
END:VEVENT
BEGIN:VEVENT
DTSTART;TZID=America/New_York:20171020T100000
DTEND;TZID=America/New_York:20171022T220000
DTSTAMP:20260420T042029
CREATED:20170105T032316Z
LAST-MODIFIED:20171023T233707Z
UID:1730-1508493600-1508709600@tlacnc.org
SUMMARY:International Festival
DESCRIPTION:
URL:https://tlacnc.org/event/international-festival-3/
LOCATION:Raleigh Convention Center\, 500 S. Salisbury Street\, Raleigh\, NC\, 27601\, United States
CATEGORIES:2017,Festival,International Festival
END:VEVENT
BEGIN:VEVENT
DTSTART;TZID=America/New_York:20170920T200000
DTEND;TZID=America/New_York:20170920T220000
DTSTAMP:20260420T042029
CREATED:20170901T202415Z
LAST-MODIFIED:20170901T202415Z
UID:2126-1505937600-1505944800@tlacnc.org
SUMMARY:Reception in Honor of H.E. Mr. Gebran Bassil
DESCRIPTION:
URL:https://tlacnc.org/event/reception-honor-h-e-mr-gebran-bassil/
LOCATION:Baytna\, 241 Horizon Dr\, Raleigh\, NC\, 27615\, United States
ORGANIZER;CN="TLAC":MAILTO:events@tlacnc.org
END:VEVENT
BEGIN:VEVENT
DTSTART;TZID=America/New_York:20170910T150000
DTEND;TZID=America/New_York:20170910T173000
DTSTAMP:20260420T042029
CREATED:20170903T005857Z
LAST-MODIFIED:20170903T005857Z
UID:2135-1505055600-1505064600@tlacnc.org
SUMMARY:Sept. 10: Eid El Adha Celebration
DESCRIPTION:
URL:https://tlacnc.org/event/sept-10-eid-el-adha-celebration/
LOCATION:Baytna\, 241 Horizon Dr\, Raleigh\, NC\, 27615\, United States
ORGANIZER;CN="TLAC":MAILTO:events@tlacnc.org
END:VEVENT
BEGIN:VEVENT
DTSTART;TZID=America/New_York:20170824T183000
DTEND;TZID=America/New_York:20170824T203000
DTSTAMP:20260420T042029
CREATED:20170821T232012Z
LAST-MODIFIED:20170822T004557Z
UID:2032-1503599400-1503606600@tlacnc.org
SUMMARY:Reception For Lebanese Fulbright Scholars
DESCRIPTION:A number of Lebanese Fulbright scholars (listed below) are currently visiting the Raleigh area in order to further their professional skills. The Khayrallah Center\, in association with the TLAC\, thus invite you to a reception in honor of our visitors this Thursday August 24 from 6:30pm to 8:30pm at Baytna. This will be a great opportunity to get to know our visitors\, exchange ideas\, and enjoy each other’s company. Hors d’oeuvres will be served. \nSee you there! \nTriangle Lebanese-American Center \n  \nScholar name – affiliations – areas of study:\n– Rita Bou Dagher Gebrayel – Lebanese University – ESP\, ESL\, Translation\, Research Methodology\n– Natalia Geha – Lebanese American University (LAU)\, Notre-Dame University – English and Writing\, Special Education\n– Diana Hadi – Beirut Arab University\, Lebanese University\, University Saint Joseph – General English\, Speech Communciation\, Language Acquisition\, TEFL\, Semiotics\n– Pamela Layoun – Holy Spirit Kaslik – Chair English Department – Teaches English Language and Literature\n– Michella Lichaa Alkhoury – Holy Spirit Kaslik – Undergraduate English Classes\n– Anita Moutchoyan – LAU\, Hagazian – Writing\, ESL\, Intercultural Studies\n– Miriam Abou Dib – Lebanese International University – TESL
URL:https://tlacnc.org/event/reception-lebanese-fulbright-scholars/
LOCATION:Baytna\, 241 Horizon Dr\, Raleigh\, NC\, 27615\, United States
CATEGORIES:2017,Event,Moise A. Khayrallah Center for Lebanese Diaspora Studies
ORGANIZER;CN="TLAC":MAILTO:events@tlacnc.org
END:VEVENT
BEGIN:VEVENT
DTSTART;TZID=America/New_York:20170611T200000
DTEND;TZID=America/New_York:20170611T223000
DTSTAMP:20260420T042029
CREATED:20170105T025604Z
LAST-MODIFIED:20170512T015346Z
UID:1722-1497211200-1497220200@tlacnc.org
SUMMARY:Iftar Dinner
DESCRIPTION:
URL:https://tlacnc.org/event/iftar-dinner/
LOCATION:Baytna\, 241 Horizon Dr\, Raleigh\, NC\, 27615\, United States
CATEGORIES:2017,Iftar Dinner
ORGANIZER;CN="TLAC":MAILTO:events@tlacnc.org
END:VEVENT
BEGIN:VEVENT
DTSTART;TZID=America/New_York:20170520T190000
DTEND;TZID=America/New_York:20170520T190000
DTSTAMP:20260420T042029
CREATED:20170419T231509Z
LAST-MODIFIED:20170419T231726Z
UID:1939-1495306800-1495306800@tlacnc.org
SUMMARY:St Sharbel Spring Party
DESCRIPTION:
URL:https://tlacnc.org/event/st-sharbel-spring-party/
LOCATION:Renaissance Center\, 405 S. Brooks Street\, Wake Forest\, 27587\, United States
CATEGORIES:St Sharbel
ORGANIZER;CN="St Sharbel - Hady Abi-Aad":MAILTO:abouna@saintsharbelchurch.org
END:VEVENT
BEGIN:VEVENT
DTSTART;TZID=America/New_York:20170408T110000
DTEND;TZID=America/New_York:20170408T190000
DTSTAMP:20260420T042029
CREATED:20170227T015258Z
LAST-MODIFIED:20170227T015542Z
UID:1818-1491649200-1491678000@tlacnc.org
SUMMARY:2017 Lebanese Festival
DESCRIPTION:
URL:https://tlacnc.org/event/2017-lebanese-festival/
LOCATION:Downtown Raleigh – City Plaza\, 400 Fayetteville Street\, Raleigh\, NC\, 27601\, United States
CATEGORIES:2017,Festival,Lebanese Festival
ORGANIZER;CN="TLAC":MAILTO:events@tlacnc.org
END:VEVENT
BEGIN:VEVENT
DTSTART;TZID=America/New_York:20170211T190000
DTEND;TZID=America/New_York:20170211T230000
DTSTAMP:20260420T042029
CREATED:20170105T024350Z
LAST-MODIFIED:20170119T003759Z
UID:1716-1486839600-1486854000@tlacnc.org
SUMMARY:Valentine's Party
DESCRIPTION:Click Here to RSVP! \n\n \nClick Here to RSVP!
URL:https://tlacnc.org/event/valentines-day-party-2/
LOCATION:Baytna\, 241 Horizon Dr\, Raleigh\, NC\, 27615\, United States
CATEGORIES:2017,Party,Valentine's Day
ORGANIZER;CN="TLAC":MAILTO:events@tlacnc.org
END:VEVENT
BEGIN:VEVENT
DTSTART;TZID=America/New_York:20161221T190000
DTEND;TZID=America/New_York:20161221T230000
DTSTAMP:20260420T042029
CREATED:20161218T040258Z
LAST-MODIFIED:20161218T040258Z
UID:1699-1482346800-1482361200@tlacnc.org
SUMMARY:Game Night!
DESCRIPTION:
URL:https://tlacnc.org/event/game-night/
LOCATION:Baytna\, 241 Horizon Dr\, Raleigh\, NC\, 27615\, United States
CATEGORIES:2016,Game Night
ORGANIZER;CN="TLAC - Game Night":MAILTO:ziad123@hotmail.com
END:VEVENT
END:VCALENDAR