BEGIN:VCALENDAR
VERSION:2.0
PRODID:-//Triangle Lebanese-American Center (TLAC) - ECPv6.15.20//NONSGML v1.0//EN
CALSCALE:GREGORIAN
METHOD:PUBLISH
X-ORIGINAL-URL:https://tlacnc.org
X-WR-CALDESC:Events for Triangle Lebanese-American Center (TLAC)
REFRESH-INTERVAL;VALUE=DURATION:PT1H
X-Robots-Tag:noindex
X-PUBLISHED-TTL:PT1H
BEGIN:VTIMEZONE
TZID:America/New_York
BEGIN:DAYLIGHT
TZOFFSETFROM:-0500
TZOFFSETTO:-0400
TZNAME:EDT
DTSTART:20240310T070000
END:DAYLIGHT
BEGIN:STANDARD
TZOFFSETFROM:-0400
TZOFFSETTO:-0500
TZNAME:EST
DTSTART:20241103T060000
END:STANDARD
BEGIN:DAYLIGHT
TZOFFSETFROM:-0500
TZOFFSETTO:-0400
TZNAME:EDT
DTSTART:20250309T070000
END:DAYLIGHT
BEGIN:STANDARD
TZOFFSETFROM:-0400
TZOFFSETTO:-0500
TZNAME:EST
DTSTART:20251102T060000
END:STANDARD
BEGIN:DAYLIGHT
TZOFFSETFROM:-0500
TZOFFSETTO:-0400
TZNAME:EDT
DTSTART:20260308T070000
END:DAYLIGHT
BEGIN:STANDARD
TZOFFSETFROM:-0400
TZOFFSETTO:-0500
TZNAME:EST
DTSTART:20261101T060000
END:STANDARD
BEGIN:DAYLIGHT
TZOFFSETFROM:-0500
TZOFFSETTO:-0400
TZNAME:EDT
DTSTART:20270314T070000
END:DAYLIGHT
BEGIN:STANDARD
TZOFFSETFROM:-0400
TZOFFSETTO:-0500
TZNAME:EST
DTSTART:20271107T060000
END:STANDARD
END:VTIMEZONE
BEGIN:VEVENT
DTSTART;TZID=America/New_York:20251214T000000
DTEND;TZID=America/New_York:20251214T235959
DTSTAMP:20260424T120740
CREATED:20250122T183121Z
LAST-MODIFIED:20250814T235944Z
UID:12588-1765670400-1765756799@tlacnc.org
SUMMARY:Children's Christmas Gathering
DESCRIPTION:Join us in spreading joy and love this holiday season by sending toys and other goods to our people in Lebanon!Please enable JavaScript in your browser to complete this form.Please enable JavaScript in your browser to complete this form.Name *FirstLastEmail *Number of people in your party? *12345678910Any Comments / Requests?EmailSubmit
URL:https://tlacnc.org/event/childrens-christmas-gathering/
LOCATION:Baytna\, 241 Horizon Dr\, Raleigh\, NC\, 27615\, United States
ORGANIZER;CN="Daniela Nasrallah":MAILTO:danielaalzoor@gmail.com
END:VEVENT
BEGIN:VEVENT
DTSTART;TZID=America/New_York:20260212T190000
DTEND;TZID=America/New_York:20260212T210000
DTSTAMP:20260424T120740
CREATED:20260109T191244Z
LAST-MODIFIED:20260109T194349Z
UID:14143-1770922800-1770930000@tlacnc.org
SUMMARY:2026 Valentine's Date Night at Wine Shop
DESCRIPTION:Join us in spreading joy and love this holiday season by sending toys and other goods to our people in Lebanon!Please enable JavaScript in your browser to complete this form.Please enable JavaScript in your browser to complete this form.Name *FirstLastEmail *Number of people in your party? *12345678910Any Comments / Requests?NameSubmit
URL:https://tlacnc.org/event/2026-tlac-valentines-date-night-at-wine-shop/
LOCATION:The Hippo Wine Bar & Shop\, 123 East Martin Street\, Raleigh\, NC\, 27601\, United States
ATTACH;FMTTYPE=image/jpeg:https://tlacnc.org/wp-content/uploads/2026/01/PHOTO-2026-01-09-14-17-14.jpg
ORGANIZER;CN="Daniela Nasrallah":MAILTO:danielaalzoor@gmail.com
END:VEVENT
BEGIN:VEVENT
DTSTART;TZID=America/New_York:20260321T000000
DTEND;TZID=America/New_York:20260322T235959
DTSTAMP:20260424T120740
CREATED:20250815T002031Z
LAST-MODIFIED:20250815T002031Z
UID:13818-1774051200-1774223999@tlacnc.org
SUMMARY:2026 Annual Lebanese Festival
DESCRIPTION:Join us in spreading joy and love this holiday season by sending toys and other goods to our people in Lebanon!Please enable JavaScript in your browser to complete this form.Please enable JavaScript in your browser to complete this form.Name *FirstLastEmail *Number of people in your party? *12345678910Any Comments / Requests?PhoneSubmit
URL:https://tlacnc.org/event/2026-annual-lebanese-festival/
LOCATION:Baytna\, 241 Horizon Dr\, Raleigh\, NC\, 27615\, United States
END:VEVENT
END:VCALENDAR