BEGIN:VCALENDAR
VERSION:2.0
PRODID:-//Triangle Lebanese-American Center (TLAC) - ECPv6.15.20//NONSGML v1.0//EN
CALSCALE:GREGORIAN
METHOD:PUBLISH
X-WR-CALNAME:Triangle Lebanese-American Center (TLAC)
X-ORIGINAL-URL:https://tlacnc.org
X-WR-CALDESC:Events for Triangle Lebanese-American Center (TLAC)
REFRESH-INTERVAL;VALUE=DURATION:PT1H
X-Robots-Tag:noindex
X-PUBLISHED-TTL:PT1H
BEGIN:VTIMEZONE
TZID:America/New_York
BEGIN:DAYLIGHT
TZOFFSETFROM:-0500
TZOFFSETTO:-0400
TZNAME:EDT
DTSTART:20170312T070000
END:DAYLIGHT
BEGIN:STANDARD
TZOFFSETFROM:-0400
TZOFFSETTO:-0500
TZNAME:EST
DTSTART:20171105T060000
END:STANDARD
BEGIN:DAYLIGHT
TZOFFSETFROM:-0500
TZOFFSETTO:-0400
TZNAME:EDT
DTSTART:20180311T070000
END:DAYLIGHT
BEGIN:STANDARD
TZOFFSETFROM:-0400
TZOFFSETTO:-0500
TZNAME:EST
DTSTART:20181104T060000
END:STANDARD
BEGIN:DAYLIGHT
TZOFFSETFROM:-0500
TZOFFSETTO:-0400
TZNAME:EDT
DTSTART:20190310T070000
END:DAYLIGHT
BEGIN:STANDARD
TZOFFSETFROM:-0400
TZOFFSETTO:-0500
TZNAME:EST
DTSTART:20191103T060000
END:STANDARD
BEGIN:DAYLIGHT
TZOFFSETFROM:-0500
TZOFFSETTO:-0400
TZNAME:EDT
DTSTART:20200308T070000
END:DAYLIGHT
BEGIN:STANDARD
TZOFFSETFROM:-0400
TZOFFSETTO:-0500
TZNAME:EST
DTSTART:20201101T060000
END:STANDARD
BEGIN:DAYLIGHT
TZOFFSETFROM:-0500
TZOFFSETTO:-0400
TZNAME:EDT
DTSTART:20210314T070000
END:DAYLIGHT
BEGIN:STANDARD
TZOFFSETFROM:-0400
TZOFFSETTO:-0500
TZNAME:EST
DTSTART:20211107T060000
END:STANDARD
BEGIN:DAYLIGHT
TZOFFSETFROM:-0500
TZOFFSETTO:-0400
TZNAME:EDT
DTSTART:20220313T070000
END:DAYLIGHT
BEGIN:STANDARD
TZOFFSETFROM:-0400
TZOFFSETTO:-0500
TZNAME:EST
DTSTART:20221106T060000
END:STANDARD
END:VTIMEZONE
BEGIN:VEVENT
DTSTART;TZID=America/New_York:20210321T153000
DTEND;TZID=America/New_York:20210321T190000
DTSTAMP:20260420T012530
CREATED:20210308T030229Z
LAST-MODIFIED:20210308T030229Z
UID:10280-1616340600-1616353200@tlacnc.org
SUMMARY:Lebanese Mother's Day Sip and Sketch
DESCRIPTION:Join us in spreading joy and love this holiday season by sending toys and other goods to our people in Lebanon!Please enable JavaScript in your browser to complete this form.Please enable JavaScript in your browser to complete this form.Name *FirstLastEmail *Number of people in your party? *12345678910Any Comments / Requests?EmailSubmit
URL:https://tlacnc.org/event/lebanese-mothers-day-sip-and-sketch/
LOCATION:Baytna\, 241 Horizon Dr\, Raleigh\, NC\, 27615\, United States
ORGANIZER;CN="TLAC":MAILTO:events@tlacnc.org
END:VEVENT
BEGIN:VEVENT
DTSTART;TZID=America/New_York:20210118T130000
DTEND;TZID=America/New_York:20210118T143000
DTSTAMP:20260420T012530
CREATED:20210120T022554Z
LAST-MODIFIED:20210120T022554Z
UID:10125-1610974800-1610980200@tlacnc.org
SUMMARY:Arabic School Start
DESCRIPTION:Join us in spreading joy and love this holiday season by sending toys and other goods to our people in Lebanon!Please enable JavaScript in your browser to complete this form.Please enable JavaScript in your browser to complete this form.Name *FirstLastEmail *Number of people in your party? *12345678910Any Comments / Requests?CommentSubmit
URL:https://tlacnc.org/event/arabic-school-start/
LOCATION:Baytna\, 241 Horizon Dr\, Raleigh\, NC\, 27615\, United States
END:VEVENT
BEGIN:VEVENT
DTSTART;TZID=America/New_York:20201030T160000
DTEND;TZID=America/New_York:20201030T180000
DTSTAMP:20260420T012530
CREATED:20201006T230216Z
LAST-MODIFIED:20201006T230216Z
UID:10066-1604073600-1604080800@tlacnc.org
SUMMARY:Halloween Trick or Treating!
DESCRIPTION:Join us in spreading joy and love this holiday season by sending toys and other goods to our people in Lebanon!Please enable JavaScript in your browser to complete this form.Please enable JavaScript in your browser to complete this form.Name *FirstLastEmail *Number of people in your party? *12345678910Any Comments / Requests?WebsiteSubmit
URL:https://tlacnc.org/event/halloween-trick-or-treating/
LOCATION:Baytna\, 241 Horizon Dr\, Raleigh\, NC\, 27615\, United States
CATEGORIES:2020,Halloween
ORGANIZER;CN="TLAC":MAILTO:events@tlacnc.org
END:VEVENT
BEGIN:VEVENT
DTSTART;TZID=America/New_York:20200315T110000
DTEND;TZID=America/New_York:20200315T190000
DTSTAMP:20260420T012530
CREATED:20200109T030107Z
LAST-MODIFIED:20200314T141132Z
UID:9824-1584270000-1584298800@tlacnc.org
SUMMARY:CANCELLED - Lebanese Festival
DESCRIPTION:Join us in spreading joy and love this holiday season by sending toys and other goods to our people in Lebanon!Please enable JavaScript in your browser to complete this form.Please enable JavaScript in your browser to complete this form.Name *FirstLastEmail *Number of people in your party? *12345678910Any Comments / Requests?PhoneSubmit
URL:https://tlacnc.org/event/lebanese-festival-3/
LOCATION:NC State Fairgrounds – Kerr Scott Building\, 1025 Blue Ridge Rd\, Raleigh\, NC\, 27607
CATEGORIES:2020,Festival,Lebanese Festival
ORGANIZER;CN="TLAC":MAILTO:events@tlacnc.org
END:VEVENT
BEGIN:VEVENT
DTSTART;TZID=America/New_York:20200314T110000
DTEND;TZID=America/New_York:20200314T190000
DTSTAMP:20260420T012530
CREATED:20200109T014603Z
LAST-MODIFIED:20200314T140522Z
UID:9821-1584183600-1584212400@tlacnc.org
SUMMARY:CANCELLED - Lebanese Festival
DESCRIPTION:Join us in spreading joy and love this holiday season by sending toys and other goods to our people in Lebanon!Please enable JavaScript in your browser to complete this form.Please enable JavaScript in your browser to complete this form.Name *FirstLastEmail *Number of people in your party? *12345678910Any Comments / Requests?CommentSubmit
URL:https://tlacnc.org/event/lebanese-festival-2/
LOCATION:NC State Fairgrounds – Kerr Scott Building\, 1025 Blue Ridge Rd\, Raleigh\, NC\, 27607
CATEGORIES:2020,Festival,Lebanese Festival
ORGANIZER;CN="TLAC":MAILTO:events@tlacnc.org
END:VEVENT
BEGIN:VEVENT
DTSTART;TZID=America/New_York:20200308T100000
DTEND;TZID=America/New_York:20200308T180000
DTSTAMP:20260420T012530
CREATED:20200109T013907Z
LAST-MODIFIED:20200314T140558Z
UID:9819-1583661600-1583690400@tlacnc.org
SUMMARY:CANCELLED - International Festival
DESCRIPTION:Join us in spreading joy and love this holiday season by sending toys and other goods to our people in Lebanon!Please enable JavaScript in your browser to complete this form.Please enable JavaScript in your browser to complete this form.Name *FirstLastEmail *Number of people in your party? *12345678910Any Comments / Requests?PhoneSubmit
URL:https://tlacnc.org/event/international-festival-4/
LOCATION:NC State Fairgrounds – Jim Graham Building\, 1025 Blue Ridge Rd\, Raleigh\, NC\, 27607
CATEGORIES:2020,Festival,International Festival
END:VEVENT
BEGIN:VEVENT
DTSTART;TZID=America/New_York:20200307T100000
DTEND;TZID=America/New_York:20200307T220000
DTSTAMP:20260420T012530
CREATED:20200109T012720Z
LAST-MODIFIED:20200314T140622Z
UID:9817-1583575200-1583618400@tlacnc.org
SUMMARY:CANCELLED - International Festival
DESCRIPTION:Join us in spreading joy and love this holiday season by sending toys and other goods to our people in Lebanon!Please enable JavaScript in your browser to complete this form.Please enable JavaScript in your browser to complete this form.Name *FirstLastEmail *Number of people in your party? *12345678910Any Comments / Requests?CommentSubmit
URL:https://tlacnc.org/event/international-festival-2/
LOCATION:NC State Fairgrounds – Jim Graham Building\, 1025 Blue Ridge Rd\, Raleigh\, NC\, 27607
CATEGORIES:2020,Festival,International Festival
END:VEVENT
BEGIN:VEVENT
DTSTART;TZID=America/New_York:20200306T130000
DTEND;TZID=America/New_York:20200306T220000
DTSTAMP:20260420T012530
CREATED:20200109T012359Z
LAST-MODIFIED:20200314T140634Z
UID:9814-1583499600-1583532000@tlacnc.org
SUMMARY:CANCELLED - International Festival
DESCRIPTION:Join us in spreading joy and love this holiday season by sending toys and other goods to our people in Lebanon!Please enable JavaScript in your browser to complete this form.Please enable JavaScript in your browser to complete this form.Name *FirstLastEmail *Number of people in your party? *12345678910Any Comments / Requests?EmailSubmit
URL:https://tlacnc.org/event/international-festival/
LOCATION:NC State Fairgrounds – Jim Graham Building\, 1025 Blue Ridge Rd\, Raleigh\, NC\, 27607
CATEGORIES:2020,Festival,International Festival
END:VEVENT
BEGIN:VEVENT
DTSTART;TZID=America/New_York:20200215T190000
DTEND;TZID=America/New_York:20200215T230000
DTSTAMP:20260420T012530
CREATED:20200109T010232Z
LAST-MODIFIED:20200211T024038Z
UID:9812-1581793200-1581807600@tlacnc.org
SUMMARY:Valentine Party
DESCRIPTION:Join us in spreading joy and love this holiday season by sending toys and other goods to our people in Lebanon!Please enable JavaScript in your browser to complete this form.Please enable JavaScript in your browser to complete this form.Name *FirstLastEmail *Number of people in your party? *12345678910Any Comments / Requests?EmailSubmit
URL:https://tlacnc.org/event/2020-valentines-party/
LOCATION:Baytna\, 241 Horizon Dr\, Raleigh\, NC\, 27615\, United States
CATEGORIES:2020,Valentine's Day
ORGANIZER;CN="TLAC":MAILTO:events@tlacnc.org
END:VEVENT
BEGIN:VEVENT
DTSTART;TZID=America/New_York:20191215T140000
DTEND;TZID=America/New_York:20191215T170000
DTSTAMP:20260420T012530
CREATED:20191202T145204Z
LAST-MODIFIED:20191202T145204Z
UID:9746-1576418400-1576429200@tlacnc.org
SUMMARY:Christmas Celebration (Members Only)
DESCRIPTION:Join us in spreading joy and love this holiday season by sending toys and other goods to our people in Lebanon!Please enable JavaScript in your browser to complete this form.Please enable JavaScript in your browser to complete this form.Name *FirstLastEmail *Number of people in your party? *12345678910Any Comments / Requests?MessageSubmit
URL:https://tlacnc.org/event/christmas-celebration-members-only/
LOCATION:Baytna\, 241 Horizon Dr\, Raleigh\, NC\, 27615\, United States
ORGANIZER;CN="TLAC":MAILTO:events@tlacnc.org
END:VEVENT
BEGIN:VEVENT
DTSTART;TZID=America/New_York:20191124T140000
DTEND;TZID=America/New_York:20191124T180000
DTSTAMP:20260420T012530
CREATED:20191108T195621Z
LAST-MODIFIED:20191108T195621Z
UID:9734-1574604000-1574618400@tlacnc.org
SUMMARY:Independence Day Celebration
DESCRIPTION:Join us in spreading joy and love this holiday season by sending toys and other goods to our people in Lebanon!Please enable JavaScript in your browser to complete this form.Please enable JavaScript in your browser to complete this form.Name *FirstLastEmail *Number of people in your party? *12345678910Any Comments / Requests?CommentSubmit
URL:https://tlacnc.org/event/independence-day-celebration-5/
LOCATION:Baytna\, 241 Horizon Dr\, Raleigh\, NC\, 27615\, United States
ORGANIZER;CN="TLAC":MAILTO:events@tlacnc.org
END:VEVENT
BEGIN:VEVENT
DTSTART;TZID=America/New_York:20190811T150000
DTEND;TZID=America/New_York:20190811T180000
DTSTAMP:20260420T012530
CREATED:20190717T111718Z
LAST-MODIFIED:20190717T111718Z
UID:9530-1565535600-1565546400@tlacnc.org
SUMMARY:Eid El Adha Celebration
DESCRIPTION:Join us in spreading joy and love this holiday season by sending toys and other goods to our people in Lebanon!Please enable JavaScript in your browser to complete this form.Please enable JavaScript in your browser to complete this form.Name *FirstLastEmail *Number of people in your party? *12345678910Any Comments / Requests?NameSubmit
URL:https://tlacnc.org/event/eid-el-adha-celebration/
LOCATION:Baytna\, 241 Horizon Dr\, Raleigh\, NC\, 27615\, United States
ORGANIZER;CN="TLAC":MAILTO:events@tlacnc.org
END:VEVENT
BEGIN:VEVENT
DTSTART;TZID=America/New_York:20190517T200000
DTEND;TZID=America/New_York:20190517T220000
DTSTAMP:20260420T012530
CREATED:20190505T232705Z
LAST-MODIFIED:20190505T232705Z
UID:9488-1558123200-1558130400@tlacnc.org
SUMMARY:Iftar Dinner
DESCRIPTION:Join us in spreading joy and love this holiday season by sending toys and other goods to our people in Lebanon!Please enable JavaScript in your browser to complete this form.Please enable JavaScript in your browser to complete this form.Name *FirstLastEmail *Number of people in your party? *12345678910Any Comments / Requests?MessageSubmit
URL:https://tlacnc.org/event/iftar-dinner-2/
LOCATION:Baytna\, 241 Horizon Dr\, Raleigh\, NC\, 27615\, United States
CATEGORIES:2019
ORGANIZER;CN="TLAC":MAILTO:events@tlacnc.org
END:VEVENT
BEGIN:VEVENT
DTSTART;TZID=America/New_York:20190425T193000
DTEND;TZID=America/New_York:20190425T210000
DTSTAMP:20260420T012530
CREATED:20190424T003214Z
LAST-MODIFIED:20190424T003214Z
UID:9478-1556220600-1556226000@tlacnc.org
SUMMARY:Turning Points in Middle Eastern History – This Week’s Lecture
DESCRIPTION:Join us in spreading joy and love this holiday season by sending toys and other goods to our people in Lebanon!Please enable JavaScript in your browser to complete this form.Please enable JavaScript in your browser to complete this form.Name *FirstLastEmail *Number of people in your party? *12345678910Any Comments / Requests?PhoneSubmit
URL:https://tlacnc.org/event/turning-points-in-middle-eastern-history-this-weeks-lecture-10/
LOCATION:Baytna\, 241 Horizon Dr\, Raleigh\, NC\, 27615\, United States
CATEGORIES:2019,Awareness,Turning Points in Middle Eastern History
ORGANIZER;CN="TLAC - Bisharah":MAILTO:blibbus@gmail.com
END:VEVENT
BEGIN:VEVENT
DTSTART;TZID=America/New_York:20190413T110000
DTEND;TZID=America/New_York:20190413T190000
DTSTAMP:20260420T012530
CREATED:20190228T021535Z
LAST-MODIFIED:20190317T154633Z
UID:9350-1555153200-1555182000@tlacnc.org
SUMMARY:Lebanese Festival
DESCRIPTION:Join us in spreading joy and love this holiday season by sending toys and other goods to our people in Lebanon!Please enable JavaScript in your browser to complete this form.Please enable JavaScript in your browser to complete this form.Name *FirstLastEmail *Number of people in your party? *12345678910Any Comments / Requests?CommentSubmit
URL:https://tlacnc.org/event/lebanese-festival/
LOCATION:Downtown Raleigh – City Plaza\, 400 Fayetteville Street\, Raleigh\, NC\, 27601\, United States
CATEGORIES:2019,Festival,Lebanese Festival
ORGANIZER;CN="TLAC":MAILTO:events@tlacnc.org
END:VEVENT
BEGIN:VEVENT
DTSTART;TZID=America/New_York:20190404T193000
DTEND;TZID=America/New_York:20190404T210000
DTSTAMP:20260420T012530
CREATED:20190424T002441Z
LAST-MODIFIED:20190424T002826Z
UID:9476-1554406200-1554411600@tlacnc.org
SUMMARY:Turning Points in Middle Eastern History - This Week's Lecture
DESCRIPTION:Join us in spreading joy and love this holiday season by sending toys and other goods to our people in Lebanon!Please enable JavaScript in your browser to complete this form.Please enable JavaScript in your browser to complete this form.Name *FirstLastEmail *Number of people in your party? *12345678910Any Comments / Requests?WebsiteSubmit
URL:https://tlacnc.org/event/turning-points-in-middle-eastern-history-this-weeks-lecture-9/
LOCATION:Baytna\, 241 Horizon Dr\, Raleigh\, NC\, 27615\, United States
CATEGORIES:2019,Awareness,Turning Points in Middle Eastern History
ORGANIZER;CN="TLAC - Bisharah":MAILTO:blibbus@gmail.com
END:VEVENT
BEGIN:VEVENT
DTSTART;TZID=America/New_York:20190323T150000
DTEND;TZID=America/New_York:20190323T190000
DTSTAMP:20260420T012530
CREATED:20190223T050358Z
LAST-MODIFIED:20190317T004303Z
UID:9339-1553353200-1553367600@tlacnc.org
SUMMARY:Mother's Day Sip and Sketch
DESCRIPTION:Join us in spreading joy and love this holiday season by sending toys and other goods to our people in Lebanon!Please enable JavaScript in your browser to complete this form.Please enable JavaScript in your browser to complete this form.Name *FirstLastEmail *Number of people in your party? *12345678910Any Comments / Requests?CommentSubmit
URL:https://tlacnc.org/event/mothers-day-sip-and-sketch/
LOCATION:Baytna\, 241 Horizon Dr\, Raleigh\, NC\, 27615\, United States
CATEGORIES:2019,Mother's Day
END:VEVENT
BEGIN:VEVENT
DTSTART;TZID=America/New_York:20190321T193000
DTEND;TZID=America/New_York:20190321T210000
DTSTAMP:20260420T012530
CREATED:20190120T165421Z
LAST-MODIFIED:20200128T003806Z
UID:5242-1553196600-1553202000@tlacnc.org
SUMMARY:Financial Workshop: Finance for Youth
DESCRIPTION:Join us in spreading joy and love this holiday season by sending toys and other goods to our people in Lebanon!Please enable JavaScript in your browser to complete this form.Please enable JavaScript in your browser to complete this form.Name *FirstLastEmail *Number of people in your party? *12345678910Any Comments / Requests?MessageSubmit
URL:https://tlacnc.org/event/financial-workshop-finance-for-youth/
LOCATION:Baytna\, 241 Horizon Dr\, Raleigh\, NC\, 27615\, United States
CATEGORIES:2019,Finance,Workshop
ORGANIZER;CN="TLAC":MAILTO:events@tlacnc.org
END:VEVENT
BEGIN:VEVENT
DTSTART;TZID=America/New_York:20190314T193000
DTEND;TZID=America/New_York:20190314T210000
DTSTAMP:20260420T012530
CREATED:20190424T002114Z
LAST-MODIFIED:20190424T002114Z
UID:9474-1552591800-1552597200@tlacnc.org
SUMMARY:Turning Points in Middle Eastern History - This Week's Lecture
DESCRIPTION:Join us in spreading joy and love this holiday season by sending toys and other goods to our people in Lebanon!Please enable JavaScript in your browser to complete this form.Please enable JavaScript in your browser to complete this form.Name *FirstLastEmail *Number of people in your party? *12345678910Any Comments / Requests?PhoneSubmit
URL:https://tlacnc.org/event/turning-points-in-middle-eastern-history-this-weeks-lecture-8/
LOCATION:Baytna\, 241 Horizon Dr\, Raleigh\, NC\, 27615\, United States
CATEGORIES:2019,Awareness,Turning Points in Middle Eastern History
ORGANIZER;CN="TLAC - Bisharah":MAILTO:blibbus@gmail.com
END:VEVENT
BEGIN:VEVENT
DTSTART;TZID=America/New_York:20190307T193000
DTEND;TZID=America/New_York:20190307T210000
DTSTAMP:20260420T012530
CREATED:20190120T165328Z
LAST-MODIFIED:20200128T003923Z
UID:5238-1551987000-1551992400@tlacnc.org
SUMMARY:Financial Workshop: Finance for Women
DESCRIPTION:Join us in spreading joy and love this holiday season by sending toys and other goods to our people in Lebanon!Please enable JavaScript in your browser to complete this form.Please enable JavaScript in your browser to complete this form.Name *FirstLastEmail *Number of people in your party? *12345678910Any Comments / Requests?WebsiteSubmit
URL:https://tlacnc.org/event/financial-workshop-finance-for-women/
LOCATION:Baytna\, 241 Horizon Dr\, Raleigh\, NC\, 27615\, United States
CATEGORIES:2019,Finance,Workshop
ORGANIZER;CN="TLAC":MAILTO:events@tlacnc.org
END:VEVENT
BEGIN:VEVENT
DTSTART;TZID=America/New_York:20190228T193000
DTEND;TZID=America/New_York:20190228T210000
DTSTAMP:20260420T012530
CREATED:20190424T001830Z
LAST-MODIFIED:20190424T001830Z
UID:9472-1551382200-1551387600@tlacnc.org
SUMMARY:Turning Points in Middle Eastern History - This Week's Lecture
DESCRIPTION:Join us in spreading joy and love this holiday season by sending toys and other goods to our people in Lebanon!Please enable JavaScript in your browser to complete this form.Please enable JavaScript in your browser to complete this form.Name *FirstLastEmail *Number of people in your party? *12345678910Any Comments / Requests?NameSubmit
URL:https://tlacnc.org/event/turning-points-in-middle-eastern-history-this-weeks-lecture-7/
LOCATION:Baytna\, 241 Horizon Dr\, Raleigh\, NC\, 27615\, United States
CATEGORIES:2019,Awareness,Turning Points in Middle Eastern History
ORGANIZER;CN="TLAC - Bisharah":MAILTO:blibbus@gmail.com
END:VEVENT
BEGIN:VEVENT
DTSTART;TZID=America/New_York:20190221T193000
DTEND;TZID=America/New_York:20190221T210000
DTSTAMP:20260420T012530
CREATED:20190120T165135Z
LAST-MODIFIED:20200128T004119Z
UID:5236-1550777400-1550782800@tlacnc.org
SUMMARY:Financial Workshop: Tax avoidance for business owners over the 35% tax bracket
DESCRIPTION:Join us in spreading joy and love this holiday season by sending toys and other goods to our people in Lebanon!Please enable JavaScript in your browser to complete this form.Please enable JavaScript in your browser to complete this form.Name *FirstLastEmail *Number of people in your party? *12345678910Any Comments / Requests?WebsiteSubmit
URL:https://tlacnc.org/event/financial-workshop-tax-avoidance-for-business-owners-over-the-35-tax-bracket/
LOCATION:Baytna\, 241 Horizon Dr\, Raleigh\, NC\, 27615\, United States
CATEGORIES:2019,Finance,Workshop
ORGANIZER;CN="TLAC":MAILTO:events@tlacnc.org
END:VEVENT
BEGIN:VEVENT
DTSTART;TZID=America/New_York:20190214T193000
DTEND;TZID=America/New_York:20190214T210000
DTSTAMP:20260420T012530
CREATED:20190424T001540Z
LAST-MODIFIED:20190424T001540Z
UID:9470-1550172600-1550178000@tlacnc.org
SUMMARY:Turning Points in Middle Eastern History - This Week's Lecture
DESCRIPTION:Join us in spreading joy and love this holiday season by sending toys and other goods to our people in Lebanon!Please enable JavaScript in your browser to complete this form.Please enable JavaScript in your browser to complete this form.Name *FirstLastEmail *Number of people in your party? *12345678910Any Comments / Requests?MessageSubmit
URL:https://tlacnc.org/event/turning-points-in-middle-eastern-history-this-weeks-lecture-6/
LOCATION:Baytna\, 241 Horizon Dr\, Raleigh\, NC\, 27615\, United States
CATEGORIES:2019,Awareness,Turning Points in Middle Eastern History
ORGANIZER;CN="TLAC - Bisharah":MAILTO:blibbus@gmail.com
END:VEVENT
BEGIN:VEVENT
DTSTART;TZID=America/New_York:20190209T190000
DTEND;TZID=America/New_York:20190209T230000
DTSTAMP:20260420T012530
CREATED:20190109T023436Z
LAST-MODIFIED:20190109T023436Z
UID:3401-1549738800-1549753200@tlacnc.org
SUMMARY:Valentine's Party
DESCRIPTION:Join us in spreading joy and love this holiday season by sending toys and other goods to our people in Lebanon!Please enable JavaScript in your browser to complete this form.Please enable JavaScript in your browser to complete this form.Name *FirstLastEmail *Number of people in your party? *12345678910Any Comments / Requests?PhoneSubmit
URL:https://tlacnc.org/event/valentines-party/
LOCATION:Baytna\, 241 Horizon Dr\, Raleigh\, NC\, 27615\, United States
ORGANIZER;CN="TLAC":MAILTO:events@tlacnc.org
END:VEVENT
BEGIN:VEVENT
DTSTART;TZID=America/New_York:20190207T193000
DTEND;TZID=America/New_York:20190207T210000
DTSTAMP:20260420T012530
CREATED:20190120T165235Z
LAST-MODIFIED:20200128T004030Z
UID:5258-1549567800-1549573200@tlacnc.org
SUMMARY:Financial Workshop: Eliminating Debt and Optimizing your Credit Score
DESCRIPTION:Join us in spreading joy and love this holiday season by sending toys and other goods to our people in Lebanon!Please enable JavaScript in your browser to complete this form.Please enable JavaScript in your browser to complete this form.Name *FirstLastEmail *Number of people in your party? *12345678910Any Comments / Requests?MessageSubmit
URL:https://tlacnc.org/event/financial-workshop-eliminating-debt-and-optimizing-your-credit-score/
LOCATION:Baytna\, 241 Horizon Dr\, Raleigh\, NC\, 27615\, United States
CATEGORIES:2019,Finance,Workshop
ORGANIZER;CN="TLAC":MAILTO:events@tlacnc.org
END:VEVENT
BEGIN:VEVENT
DTSTART;TZID=America/New_York:20190124T193000
DTEND;TZID=America/New_York:20190124T210000
DTSTAMP:20260420T012531
CREATED:20190120T165049Z
LAST-MODIFIED:20200128T004239Z
UID:5218-1548358200-1548363600@tlacnc.org
SUMMARY:Financial Workshop: Trading stocks\, bonds\, or derivatives
DESCRIPTION:Join us in spreading joy and love this holiday season by sending toys and other goods to our people in Lebanon!Please enable JavaScript in your browser to complete this form.Please enable JavaScript in your browser to complete this form.Name *FirstLastEmail *Number of people in your party? *12345678910Any Comments / Requests?MessageSubmit
URL:https://tlacnc.org/event/financial-workshop-trading-stocks-bonds-or-derivatives/
LOCATION:Baytna\, 241 Horizon Dr\, Raleigh\, NC\, 27615\, United States
CATEGORIES:2019,Finance,Workshop
ORGANIZER;CN="TLAC":MAILTO:events@tlacnc.org
END:VEVENT
BEGIN:VEVENT
DTSTART;TZID=America/New_York:20181223T140000
DTEND;TZID=America/New_York:20181223T170000
DTSTAMP:20260420T012531
CREATED:20181205T002017Z
LAST-MODIFIED:20181205T002017Z
UID:3356-1545573600-1545584400@tlacnc.org
SUMMARY:Christmas Get Together
DESCRIPTION:Join us in spreading joy and love this holiday season by sending toys and other goods to our people in Lebanon!Please enable JavaScript in your browser to complete this form.Please enable JavaScript in your browser to complete this form.Name *FirstLastEmail *Number of people in your party? *12345678910Any Comments / Requests?PhoneSubmit
URL:https://tlacnc.org/event/christmas-get-together/
LOCATION:Baytna\, 241 Horizon Dr\, Raleigh\, NC\, 27615\, United States
CATEGORIES:2018,Christmas,Party,Santa
ORGANIZER;CN="TLAC":MAILTO:events@tlacnc.org
END:VEVENT
BEGIN:VEVENT
DTSTART;TZID=America/New_York:20181129T193000
DTEND;TZID=America/New_York:20181129T210000
DTSTAMP:20260420T012531
CREATED:20190424T001129Z
LAST-MODIFIED:20190424T001146Z
UID:9467-1543519800-1543525200@tlacnc.org
SUMMARY:Turning Points in Middle Eastern History - This Week's Lecture
DESCRIPTION:Join us in spreading joy and love this holiday season by sending toys and other goods to our people in Lebanon!Please enable JavaScript in your browser to complete this form.Please enable JavaScript in your browser to complete this form.Name *FirstLastEmail *Number of people in your party? *12345678910Any Comments / Requests?MessageSubmit
URL:https://tlacnc.org/event/turning-points-in-middle-eastern-history-this-weeks-lecture-5/
LOCATION:Baytna\, 241 Horizon Dr\, Raleigh\, NC\, 27615\, United States
CATEGORIES:2018,Awareness,Turning Points in Middle Eastern History
ORGANIZER;CN="TLAC - Bisharah":MAILTO:blibbus@gmail.com
END:VEVENT
BEGIN:VEVENT
DTSTART;TZID=America/New_York:20181118T143000
DTEND;TZID=America/New_York:20181118T180000
DTSTAMP:20260420T012531
CREATED:20181102T022524Z
LAST-MODIFIED:20181102T022524Z
UID:3201-1542551400-1542564000@tlacnc.org
SUMMARY:Independence Day Celebration
DESCRIPTION:Join us in spreading joy and love this holiday season by sending toys and other goods to our people in Lebanon!Please enable JavaScript in your browser to complete this form.Please enable JavaScript in your browser to complete this form.Name *FirstLastEmail *Number of people in your party? *12345678910Any Comments / Requests?PhoneSubmit
URL:https://tlacnc.org/event/independence-day-celebration-4/
LOCATION:Baytna\, 241 Horizon Dr\, Raleigh\, NC\, 27615\, United States
CATEGORIES:2018,Independence Day
ORGANIZER;CN="TLAC":MAILTO:events@tlacnc.org
END:VEVENT
BEGIN:VEVENT
DTSTART;TZID=America/New_York:20181108T193000
DTEND;TZID=America/New_York:20181108T210000
DTSTAMP:20260420T012531
CREATED:20190424T000837Z
LAST-MODIFIED:20190424T000837Z
UID:9465-1541705400-1541710800@tlacnc.org
SUMMARY:Turning Points in Middle Eastern History - This Week's Lecture
DESCRIPTION:Join us in spreading joy and love this holiday season by sending toys and other goods to our people in Lebanon!Please enable JavaScript in your browser to complete this form.Please enable JavaScript in your browser to complete this form.Name *FirstLastEmail *Number of people in your party? *12345678910Any Comments / Requests?MessageSubmit
URL:https://tlacnc.org/event/turning-points-in-middle-eastern-history-this-weeks-lecture-4/
LOCATION:Baytna\, 241 Horizon Dr\, Raleigh\, NC\, 27615\, United States
CATEGORIES:2018,Awareness,Turning Points in Middle Eastern History
ORGANIZER;CN="TLAC - Bisharah":MAILTO:blibbus@gmail.com
END:VEVENT
END:VCALENDAR