BEGIN:VCALENDAR
VERSION:2.0
PRODID:-//Triangle Lebanese-American Center (TLAC) - ECPv6.15.20//NONSGML v1.0//EN
CALSCALE:GREGORIAN
METHOD:PUBLISH
X-WR-CALNAME:Triangle Lebanese-American Center (TLAC)
X-ORIGINAL-URL:https://tlacnc.org
X-WR-CALDESC:Events for Triangle Lebanese-American Center (TLAC)
REFRESH-INTERVAL;VALUE=DURATION:PT1H
X-Robots-Tag:noindex
X-PUBLISHED-TTL:PT1H
BEGIN:VTIMEZONE
TZID:America/New_York
BEGIN:DAYLIGHT
TZOFFSETFROM:-0500
TZOFFSETTO:-0400
TZNAME:EDT
DTSTART:20230312T070000
END:DAYLIGHT
BEGIN:STANDARD
TZOFFSETFROM:-0400
TZOFFSETTO:-0500
TZNAME:EST
DTSTART:20231105T060000
END:STANDARD
BEGIN:DAYLIGHT
TZOFFSETFROM:-0500
TZOFFSETTO:-0400
TZNAME:EDT
DTSTART:20240310T070000
END:DAYLIGHT
BEGIN:STANDARD
TZOFFSETFROM:-0400
TZOFFSETTO:-0500
TZNAME:EST
DTSTART:20241103T060000
END:STANDARD
BEGIN:DAYLIGHT
TZOFFSETFROM:-0500
TZOFFSETTO:-0400
TZNAME:EDT
DTSTART:20250309T070000
END:DAYLIGHT
BEGIN:STANDARD
TZOFFSETFROM:-0400
TZOFFSETTO:-0500
TZNAME:EST
DTSTART:20251102T060000
END:STANDARD
END:VTIMEZONE
BEGIN:VEVENT
DTSTART;TZID=America/New_York:20241027T090000
DTEND;TZID=America/New_York:20241027T130000
DTSTAMP:20260419T084012
CREATED:20241011T212434Z
LAST-MODIFIED:20241028T234243Z
UID:12342-1730019600-1730034000@tlacnc.org
SUMMARY:TLAC Breakfast for Lebanon
DESCRIPTION:Share this:\n				Share on Facebook (Opens in new window)\n				Facebook\n			\n				Share on WhatsApp (Opens in new window)\n				WhatsApp\n			\n				Share on Threads (Opens in new window)\n				Threads\n			\n				Share on Reddit (Opens in new window)\n				Reddit\n			\n				Share on LinkedIn (Opens in new window)\n				LinkedIn\n			\n				Share on X (Opens in new window)\n				X\n			\n				Email a link to a friend (Opens in new window)\n				Email\n			\n				Print (Opens in new window)\n				Print\n			More\n				Share on Tumblr (Opens in new window)\n				Tumblr\n			\n				Share on Pinterest (Opens in new window)\n				Pinterest\n			\n				Share on X (Opens in new window)\n				X\n			\n				Share on Bluesky (Opens in new window)\n				Bluesky\n			\n\n	Related
URL:https://tlacnc.org/event/tlac-breakfast-for-lebanon/
LOCATION:Baytna\, 241 Horizon Dr\, Raleigh\, NC\, 27615\, United States
END:VEVENT
END:VCALENDAR